BEGIN:VCALENDAR
VERSION:2.0
PRODID:-//El Hacedor Juan 3:16 AG - ECPv6.15.20//NONSGML v1.0//EN
CALSCALE:GREGORIAN
METHOD:PUBLISH
X-ORIGINAL-URL:https://elhacedorjuan316.org
X-WR-CALDESC:Events for El Hacedor Juan 3:16 AG
REFRESH-INTERVAL;VALUE=DURATION:PT1H
X-Robots-Tag:noindex
X-PUBLISHED-TTL:PT1H
BEGIN:VTIMEZONE
TZID:UTC
BEGIN:STANDARD
TZOFFSETFROM:+0000
TZOFFSETTO:+0000
TZNAME:UTC
DTSTART:20240101T000000
END:STANDARD
END:VTIMEZONE
BEGIN:VEVENT
DTSTART;TZID=UTC:20250725T190000
DTEND;TZID=UTC:20250725T203000
DTSTAMP:20260419T200058
CREATED:20250708T152649Z
LAST-MODIFIED:20250708T152649Z
UID:2958-1753470000-1753475400@elhacedorjuan316.org
SUMMARY:REUNIÓN MADRES SOLTERAS
DESCRIPTION:REUNIÓN MADRES SOLTERAS – 7 P.M.
URL:https://elhacedorjuan316.org/event/reunion-madres-solteras-23/
LOCATION:Church\, 413 Fern St.\, Jupiter\, FL\, 33458\, United States
CATEGORIES:Reunión Madres Solteras
END:VEVENT
END:VCALENDAR