BEGIN:VCALENDAR
VERSION:2.0
PRODID:-//El Hacedor Juan 3:16 AG - ECPv6.15.20//NONSGML v1.0//EN
CALSCALE:GREGORIAN
METHOD:PUBLISH
X-ORIGINAL-URL:https://elhacedorjuan316.org
X-WR-CALDESC:Events for El Hacedor Juan 3:16 AG
REFRESH-INTERVAL;VALUE=DURATION:PT1H
X-Robots-Tag:noindex
X-PUBLISHED-TTL:PT1H
BEGIN:VTIMEZONE
TZID:UTC
BEGIN:STANDARD
TZOFFSETFROM:+0000
TZOFFSETTO:+0000
TZNAME:UTC
DTSTART:20240101T000000
END:STANDARD
END:VTIMEZONE
BEGIN:VEVENT
DTSTART;TZID=UTC:20250802T100000
DTEND;TZID=UTC:20250802T140000
DTSTAMP:20260419T144148
CREATED:20250801T141119Z
LAST-MODIFIED:20250801T141119Z
UID:3033-1754128800-1754143200@elhacedorjuan316.org
SUMMARY:SEEK & SAVE
DESCRIPTION:SEEK & SAVE – 10:00 A.M.-2:00P.M. \n\nFREE SCHOOL SUPPLIES\nGAMES\nARTS&CRAFTS
URL:https://elhacedorjuan316.org/event/seek-save/
LOCATION:Church\, 413 Fern St.\, Jupiter\, FL\, 33458\, United States
CATEGORIES:Outreach
END:VEVENT
END:VCALENDAR