BEGIN:VCALENDAR
VERSION:2.0
PRODID:-//El Hacedor Juan 3:16 AG - ECPv6.15.20//NONSGML v1.0//EN
CALSCALE:GREGORIAN
METHOD:PUBLISH
X-WR-CALNAME:El Hacedor Juan 3:16 AG
X-ORIGINAL-URL:https://elhacedorjuan316.org
X-WR-CALDESC:Events for El Hacedor Juan 3:16 AG
REFRESH-INTERVAL;VALUE=DURATION:PT1H
X-Robots-Tag:noindex
X-PUBLISHED-TTL:PT1H
BEGIN:VTIMEZONE
TZID:UTC
BEGIN:STANDARD
TZOFFSETFROM:+0000
TZOFFSETTO:+0000
TZNAME:UTC
DTSTART:20230101T000000
END:STANDARD
END:VTIMEZONE
BEGIN:VEVENT
DTSTART;TZID=UTC:20241201T090000
DTEND;TZID=UTC:20241201T120000
DTSTAMP:20260421T193036
CREATED:20241206T152709Z
LAST-MODIFIED:20241206T152709Z
UID:2605-1733043600-1733054400@elhacedorjuan316.org
SUMMARY:SERVICIO EVANGELÍSTICO E IGLESIA DE NIÑOS
DESCRIPTION:SERVICIO EVANGELÍSTICO E IGLESIA DE NIÑOS\n\n9:00AM – Servicio Evangelístico e Iglesia de Niños\n\n\n10:45AM – Servicio Evangelístico e Iglesia de Niños
URL:https://elhacedorjuan316.org/event/servicio-evangelistico-e-iglesia-de-ninos-47/
LOCATION:Church\, 413 Fern St.\, Jupiter\, FL\, 33458\, United States
CATEGORIES:SERVICIO EVANGELÍSTICO IGLESIA DE NIÑOS,servicios del domingo
ATTACH;FMTTYPE=image/jpeg:https://elhacedorjuan316.org/wp-content/uploads/2022/12/qtq80-Z4dq6e.jpeg
END:VEVENT
BEGIN:VEVENT
DTSTART;TZID=UTC:20241124T090000
DTEND;TZID=UTC:20241124T120000
DTSTAMP:20260421T193036
CREATED:20241101T153540Z
LAST-MODIFIED:20241101T153540Z
UID:2552-1732438800-1732449600@elhacedorjuan316.org
SUMMARY:SERVICIO EVANGELÍSTICO E IGLESIA DE NIÑOS
DESCRIPTION:SERVICIO EVANGELÍSTICO E IGLESIA DE NIÑOS\n\n9:00AM – Servicio Evangelístico e Iglesia de Niños\n\n\n10:45AM – Servicio Evangelístico e Iglesia de Niños
URL:https://elhacedorjuan316.org/event/servicio-evangelistico-e-iglesia-de-ninos-46/
LOCATION:Church\, 413 Fern St.\, Jupiter\, FL\, 33458\, United States
CATEGORIES:SERVICIO EVANGELÍSTICO IGLESIA DE NIÑOS,servicios del domingo
ATTACH;FMTTYPE=image/jpeg:https://elhacedorjuan316.org/wp-content/uploads/2022/12/qtq80-Z4dq6e.jpeg
END:VEVENT
BEGIN:VEVENT
DTSTART;TZID=UTC:20241117T090000
DTEND;TZID=UTC:20241117T120000
DTSTAMP:20260421T193036
CREATED:20241101T153452Z
LAST-MODIFIED:20241101T153452Z
UID:2550-1731834000-1731844800@elhacedorjuan316.org
SUMMARY:SERVICIO EVANGELÍSTICO E IGLESIA DE NIÑOS
DESCRIPTION:SERVICIO EVANGELÍSTICO E IGLESIA DE NIÑOS\n\n9:00AM – Servicio Evangelístico e Iglesia de Niños\n\n\n10:45AM – Servicio Evangelístico e Iglesia de Niños
URL:https://elhacedorjuan316.org/event/servicio-evangelistico-e-iglesia-de-ninos-45/
LOCATION:Church\, 413 Fern St.\, Jupiter\, FL\, 33458\, United States
CATEGORIES:SERVICIO EVANGELÍSTICO IGLESIA DE NIÑOS,servicios del domingo
ATTACH;FMTTYPE=image/jpeg:https://elhacedorjuan316.org/wp-content/uploads/2022/12/qtq80-Z4dq6e.jpeg
END:VEVENT
BEGIN:VEVENT
DTSTART;TZID=UTC:20241110T090000
DTEND;TZID=UTC:20241110T120000
DTSTAMP:20260421T193036
CREATED:20241101T153402Z
LAST-MODIFIED:20241101T153402Z
UID:2548-1731229200-1731240000@elhacedorjuan316.org
SUMMARY:SERVICIO EVANGELÍSTICO E IGLESIA DE NIÑOS
DESCRIPTION:SERVICIO EVANGELÍSTICO E IGLESIA DE NIÑOS\n\n9:00AM – Servicio Evangelístico e Iglesia de Niños\n\n\n10:45AM – Servicio Evangelístico e Iglesia de Niños
URL:https://elhacedorjuan316.org/event/servicio-evangelistico-e-iglesia-de-ninos-44/
LOCATION:Church\, 413 Fern St.\, Jupiter\, FL\, 33458\, United States
CATEGORIES:SERVICIO EVANGELÍSTICO IGLESIA DE NIÑOS,servicios del domingo
ATTACH;FMTTYPE=image/jpeg:https://elhacedorjuan316.org/wp-content/uploads/2022/12/qtq80-Z4dq6e.jpeg
END:VEVENT
BEGIN:VEVENT
DTSTART;TZID=UTC:20241103T090000
DTEND;TZID=UTC:20241103T120000
DTSTAMP:20260421T193036
CREATED:20241101T153313Z
LAST-MODIFIED:20241101T153313Z
UID:2546-1730624400-1730635200@elhacedorjuan316.org
SUMMARY:SERVICIO EVANGELÍSTICO E IGLESIA DE NIÑOS
DESCRIPTION:SERVICIO EVANGELÍSTICO E IGLESIA DE NIÑOS\n\n9:00AM – Servicio Evangelístico e Iglesia de Niños\n\n\n10:45AM – Servicio Evangelístico e Iglesia de Niños
URL:https://elhacedorjuan316.org/event/servicio-evangelistico-e-iglesia-de-ninos-43/
LOCATION:Church\, 413 Fern St.\, Jupiter\, FL\, 33458\, United States
CATEGORIES:SERVICIO EVANGELÍSTICO IGLESIA DE NIÑOS,servicios del domingo
ATTACH;FMTTYPE=image/jpeg:https://elhacedorjuan316.org/wp-content/uploads/2022/12/qtq80-Z4dq6e.jpeg
END:VEVENT
BEGIN:VEVENT
DTSTART;TZID=UTC:20241027T090000
DTEND;TZID=UTC:20241027T120000
DTSTAMP:20260421T193036
CREATED:20241101T153157Z
LAST-MODIFIED:20241101T153157Z
UID:2544-1730019600-1730030400@elhacedorjuan316.org
SUMMARY:DÍA DEL PASTOR
DESCRIPTION:SERVICIO EVANGELÍSTICO E IGLESIA DE NIÑOS\n\n9:00AM – Servicio Evangelístico e Iglesia de Niños\n\n\n10:45AM – Servicio Evangelístico e Iglesia de Niños
URL:https://elhacedorjuan316.org/event/dia-del-pastor-2/
LOCATION:Church\, 413 Fern St.\, Jupiter\, FL\, 33458\, United States
CATEGORIES:SERVICIO EVANGELÍSTICO IGLESIA DE NIÑOS,servicios del domingo
ATTACH;FMTTYPE=image/jpeg:https://elhacedorjuan316.org/wp-content/uploads/2022/12/qtq80-Z4dq6e.jpeg
END:VEVENT
BEGIN:VEVENT
DTSTART;TZID=UTC:20241020T090000
DTEND;TZID=UTC:20241020T120000
DTSTAMP:20260421T193036
CREATED:20241101T153022Z
LAST-MODIFIED:20241101T153022Z
UID:2542-1729414800-1729425600@elhacedorjuan316.org
SUMMARY:SERVICIO EVANGELÍSTICO E IGLESIA DE NIÑOS
DESCRIPTION:SERVICIO EVANGELÍSTICO E IGLESIA DE NIÑOS\n\n9:00AM – Servicio Evangelístico e Iglesia de Niños\n\n\n10:45AM – Servicio Evangelístico e Iglesia de Niños
URL:https://elhacedorjuan316.org/event/servicio-evangelistico-e-iglesia-de-ninos-42/
LOCATION:Church\, 413 Fern St.\, Jupiter\, FL\, 33458\, United States
CATEGORIES:SERVICIO EVANGELÍSTICO IGLESIA DE NIÑOS,servicios del domingo
ATTACH;FMTTYPE=image/jpeg:https://elhacedorjuan316.org/wp-content/uploads/2022/12/qtq80-Z4dq6e.jpeg
END:VEVENT
BEGIN:VEVENT
DTSTART;TZID=UTC:20241013T090000
DTEND;TZID=UTC:20241013T120000
DTSTAMP:20260421T193036
CREATED:20241101T152908Z
LAST-MODIFIED:20241101T152908Z
UID:2540-1728810000-1728820800@elhacedorjuan316.org
SUMMARY:SERVICIO EVANGELÍSTICO E IGLESIA DE NIÑOS
DESCRIPTION:SERVICIO EVANGELÍSTICO E IGLESIA DE NIÑOS\n\n9:00AM – Servicio Evangelístico e Iglesia de Niños\n\n\n10:45AM – Servicio Evangelístico e Iglesia de Niños
URL:https://elhacedorjuan316.org/event/servicio-evangelistico-e-iglesia-de-ninos-41/
LOCATION:Church\, 413 Fern St.\, Jupiter\, FL\, 33458\, United States
CATEGORIES:SERVICIO EVANGELÍSTICO IGLESIA DE NIÑOS,servicios del domingo
ATTACH;FMTTYPE=image/jpeg:https://elhacedorjuan316.org/wp-content/uploads/2022/12/qtq80-Z4dq6e.jpeg
END:VEVENT
BEGIN:VEVENT
DTSTART;TZID=UTC:20241006T090000
DTEND;TZID=UTC:20241006T120000
DTSTAMP:20260421T193036
CREATED:20241101T151911Z
LAST-MODIFIED:20241101T151911Z
UID:2538-1728205200-1728216000@elhacedorjuan316.org
SUMMARY:DÍA DEL PASTOR
DESCRIPTION:SERVICIO EVANGELÍSTICO E IGLESIA DE NIÑOS\n\n9:00AM – Servicio Evangelístico e Iglesia de Niños\n\n\n10:45AM – Servicio Evangelístico e Iglesia de Niños
URL:https://elhacedorjuan316.org/event/dia-del-pastor/
LOCATION:Church\, 413 Fern St.\, Jupiter\, FL\, 33458\, United States
CATEGORIES:SERVICIO EVANGELÍSTICO IGLESIA DE NIÑOS,servicios del domingo
ATTACH;FMTTYPE=image/jpeg:https://elhacedorjuan316.org/wp-content/uploads/2022/12/qtq80-Z4dq6e.jpeg
END:VEVENT
BEGIN:VEVENT
DTSTART;TZID=UTC:20240929T090000
DTEND;TZID=UTC:20240929T120000
DTSTAMP:20260421T193036
CREATED:20240922T025937Z
LAST-MODIFIED:20240922T025937Z
UID:2503-1727600400-1727611200@elhacedorjuan316.org
SUMMARY:CELEBRACIÓN ANIVERSARIO
DESCRIPTION:SERVICIO EVANGELÍSTICO E IGLESIA DE NIÑOS\n\n9:00AM – Servicio Evangelístico e Iglesia de Niños\n\n\n10:45AM – Servicio Evangelístico e Iglesia de Niños
URL:https://elhacedorjuan316.org/event/celebracion-aniversario-10/
LOCATION:Church\, 413 Fern St.\, Jupiter\, FL\, 33458\, United States
CATEGORIES:SERVICIO EVANGELÍSTICO IGLESIA DE NIÑOS,servicios del domingo
ATTACH;FMTTYPE=image/jpeg:https://elhacedorjuan316.org/wp-content/uploads/2022/12/qtq80-Z4dq6e.jpeg
END:VEVENT
BEGIN:VEVENT
DTSTART;TZID=UTC:20240922T090000
DTEND;TZID=UTC:20240922T120000
DTSTAMP:20260421T193036
CREATED:20240922T025845Z
LAST-MODIFIED:20240922T025845Z
UID:2501-1726995600-1727006400@elhacedorjuan316.org
SUMMARY:CELEBRACIÓN ANIVERSARIO
DESCRIPTION:SERVICIO EVANGELÍSTICO E IGLESIA DE NIÑOS\n\n9:00AM – Servicio Evangelístico e Iglesia de Niños\n\n\n10:45AM – Servicio Evangelístico e Iglesia de Niños
URL:https://elhacedorjuan316.org/event/celebracion-aniversario-9/
LOCATION:Church\, 413 Fern St.\, Jupiter\, FL\, 33458\, United States
CATEGORIES:SERVICIO EVANGELÍSTICO IGLESIA DE NIÑOS,servicios del domingo
ATTACH;FMTTYPE=image/jpeg:https://elhacedorjuan316.org/wp-content/uploads/2022/12/qtq80-Z4dq6e.jpeg
END:VEVENT
BEGIN:VEVENT
DTSTART;TZID=UTC:20240915T090000
DTEND;TZID=UTC:20240915T120000
DTSTAMP:20260421T193036
CREATED:20240922T025733Z
LAST-MODIFIED:20240922T025733Z
UID:2499-1726390800-1726401600@elhacedorjuan316.org
SUMMARY:CELEBRACIÓN ANIVERSARIO
DESCRIPTION:SERVICIO EVANGELÍSTICO E IGLESIA DE NIÑOS\n\n9:00AM – Servicio Evangelístico e Iglesia de Niños\n\n\n10:45AM – Servicio Evangelístico e Iglesia de Niños
URL:https://elhacedorjuan316.org/event/celebracion-aniversario-8/
LOCATION:Church\, 413 Fern St.\, Jupiter\, FL\, 33458\, United States
CATEGORIES:SERVICIO EVANGELÍSTICO IGLESIA DE NIÑOS,servicios del domingo
ATTACH;FMTTYPE=image/jpeg:https://elhacedorjuan316.org/wp-content/uploads/2022/12/qtq80-Z4dq6e.jpeg
END:VEVENT
BEGIN:VEVENT
DTSTART;TZID=UTC:20240908T090000
DTEND;TZID=UTC:20240908T120000
DTSTAMP:20260421T193036
CREATED:20240922T025637Z
LAST-MODIFIED:20240922T025637Z
UID:2497-1725786000-1725796800@elhacedorjuan316.org
SUMMARY:CELEBRACIÓN ANIVERSARIO
DESCRIPTION:SERVICIO EVANGELÍSTICO E IGLESIA DE NIÑOS\n\n9:00AM – Servicio Evangelístico e Iglesia de Niños\n\n\n10:45AM – Servicio Evangelístico e Iglesia de Niños
URL:https://elhacedorjuan316.org/event/celebracion-aniversario-7/
LOCATION:Church\, 413 Fern St.\, Jupiter\, FL\, 33458\, United States
CATEGORIES:SERVICIO EVANGELÍSTICO IGLESIA DE NIÑOS,servicios del domingo
ATTACH;FMTTYPE=image/jpeg:https://elhacedorjuan316.org/wp-content/uploads/2022/12/qtq80-Z4dq6e.jpeg
END:VEVENT
BEGIN:VEVENT
DTSTART;TZID=UTC:20240901T090000
DTEND;TZID=UTC:20240901T120000
DTSTAMP:20260421T193037
CREATED:20240922T025457Z
LAST-MODIFIED:20240922T025457Z
UID:2495-1725181200-1725192000@elhacedorjuan316.org
SUMMARY:CELEBRACIÓN ANIVERSARIO
DESCRIPTION:SERVICIO EVANGELÍSTICO E IGLESIA DE NIÑOS\n\n9:00AM – Servicio Evangelístico e Iglesia de Niños\n\n\n10:45AM – Servicio Evangelístico e Iglesia de Niños
URL:https://elhacedorjuan316.org/event/celebracion-aniversario-6/
LOCATION:Church\, 413 Fern St.\, Jupiter\, FL\, 33458\, United States
CATEGORIES:SERVICIO EVANGELÍSTICO IGLESIA DE NIÑOS,servicios del domingo
ATTACH;FMTTYPE=image/jpeg:https://elhacedorjuan316.org/wp-content/uploads/2022/12/qtq80-Z4dq6e.jpeg
END:VEVENT
BEGIN:VEVENT
DTSTART;TZID=UTC:20240825T090000
DTEND;TZID=UTC:20240825T120000
DTSTAMP:20260421T193037
CREATED:20240812T025503Z
LAST-MODIFIED:20240812T025503Z
UID:2480-1724576400-1724587200@elhacedorjuan316.org
SUMMARY:SERVICIO EVANGELÍSTICO E IGLESIA DE NIÑOS
DESCRIPTION:SERVICIO EVANGELÍSTICO E IGLESIA DE NIÑOS\n\n9:00AM – Servicio Evangelístico e Iglesia de Niños\n\n\n10:45AM – Servicio Evangelístico e Iglesia de Niños
URL:https://elhacedorjuan316.org/event/servicio-evangelistico-e-iglesia-de-ninos-40/
LOCATION:Church\, 413 Fern St.\, Jupiter\, FL\, 33458\, United States
CATEGORIES:SERVICIO EVANGELÍSTICO IGLESIA DE NIÑOS,servicios del domingo
ATTACH;FMTTYPE=image/jpeg:https://elhacedorjuan316.org/wp-content/uploads/2022/12/qtq80-Z4dq6e.jpeg
END:VEVENT
BEGIN:VEVENT
DTSTART;TZID=UTC:20240818T090000
DTEND;TZID=UTC:20240818T120000
DTSTAMP:20260421T193037
CREATED:20240812T025411Z
LAST-MODIFIED:20240812T025411Z
UID:2478-1723971600-1723982400@elhacedorjuan316.org
SUMMARY:SERVICIO EVANGELÍSTICO E IGLESIA DE NIÑOS
DESCRIPTION:SERVICIO EVANGELÍSTICO E IGLESIA DE NIÑOS\n\n9:00AM – Servicio Evangelístico e Iglesia de Niños\n\n\n10:45AM – Servicio Evangelístico e Iglesia de Niños
URL:https://elhacedorjuan316.org/event/servicio-evangelistico-e-iglesia-de-ninos-39/
LOCATION:Church\, 413 Fern St.\, Jupiter\, FL\, 33458\, United States
CATEGORIES:SERVICIO EVANGELÍSTICO IGLESIA DE NIÑOS,servicios del domingo
ATTACH;FMTTYPE=image/jpeg:https://elhacedorjuan316.org/wp-content/uploads/2022/12/qtq80-Z4dq6e.jpeg
END:VEVENT
BEGIN:VEVENT
DTSTART;TZID=UTC:20240811T090000
DTEND;TZID=UTC:20240811T120000
DTSTAMP:20260421T193037
CREATED:20240812T025310Z
LAST-MODIFIED:20240812T025310Z
UID:2476-1723366800-1723377600@elhacedorjuan316.org
SUMMARY:SERVICIO EVANGELÍSTICO E IGLESIA DE NIÑOS
DESCRIPTION:SERVICIO EVANGELÍSTICO E IGLESIA DE NIÑOS\n\n9:00AM – Servicio Evangelístico e Iglesia de Niños\n\n\n10:45AM – Servicio Evangelístico e Iglesia de Niños
URL:https://elhacedorjuan316.org/event/servicio-evangelistico-e-iglesia-de-ninos-38/
LOCATION:Church\, 413 Fern St.\, Jupiter\, FL\, 33458\, United States
CATEGORIES:SERVICIO EVANGELÍSTICO IGLESIA DE NIÑOS,servicios del domingo
ATTACH;FMTTYPE=image/jpeg:https://elhacedorjuan316.org/wp-content/uploads/2022/12/qtq80-Z4dq6e.jpeg
END:VEVENT
BEGIN:VEVENT
DTSTART;TZID=UTC:20240804T090000
DTEND;TZID=UTC:20240804T120000
DTSTAMP:20260421T193037
CREATED:20240812T025226Z
LAST-MODIFIED:20240812T025226Z
UID:2474-1722762000-1722772800@elhacedorjuan316.org
SUMMARY:SERVICIO EVANGELÍSTICO E IGLESIA DE NIÑOS
DESCRIPTION:SERVICIO EVANGELÍSTICO E IGLESIA DE NIÑOS\n\n9:00AM – Servicio Evangelístico e Iglesia de Niños\n\n\n10:45AM – Servicio Evangelístico e Iglesia de Niños
URL:https://elhacedorjuan316.org/event/servicio-evangelistico-e-iglesia-de-ninos-37/
LOCATION:Church\, 413 Fern St.\, Jupiter\, FL\, 33458\, United States
CATEGORIES:SERVICIO EVANGELÍSTICO IGLESIA DE NIÑOS,servicios del domingo
ATTACH;FMTTYPE=image/jpeg:https://elhacedorjuan316.org/wp-content/uploads/2022/12/qtq80-Z4dq6e.jpeg
END:VEVENT
BEGIN:VEVENT
DTSTART;TZID=UTC:20240728T090000
DTEND;TZID=UTC:20240728T120000
DTSTAMP:20260421T193037
CREATED:20240706T170954Z
LAST-MODIFIED:20240706T170954Z
UID:2450-1722157200-1722168000@elhacedorjuan316.org
SUMMARY:SERVICIO EVANGELÍSTICO E IGLESIA DE NIÑOS
DESCRIPTION:SERVICIO EVANGELÍSTICO E IGLESIA DE NIÑOS\n\n9:00AM – Servicio Evangelístico e Iglesia de Niños\n\n\n10:45AM – Servicio Evangelístico e Iglesia de Niños
URL:https://elhacedorjuan316.org/event/servicio-evangelistico-e-iglesia-de-ninos-36/
LOCATION:Church\, 413 Fern St.\, Jupiter\, FL\, 33458\, United States
CATEGORIES:SERVICIO EVANGELÍSTICO IGLESIA DE NIÑOS,servicios del domingo
ATTACH;FMTTYPE=image/jpeg:https://elhacedorjuan316.org/wp-content/uploads/2022/12/qtq80-Z4dq6e.jpeg
END:VEVENT
BEGIN:VEVENT
DTSTART;TZID=UTC:20240721T090000
DTEND;TZID=UTC:20240721T120000
DTSTAMP:20260421T193037
CREATED:20240706T170828Z
LAST-MODIFIED:20240706T170828Z
UID:2448-1721552400-1721563200@elhacedorjuan316.org
SUMMARY:SERVICIO EVANGELÍSTICO E IGLESIA DE NIÑOS
DESCRIPTION:SERVICIO EVANGELÍSTICO E IGLESIA DE NIÑOS\n\n9:00AM – Servicio Evangelístico e Iglesia de Niños\n\n\n10:45AM – Servicio Evangelístico e Iglesia de Niños
URL:https://elhacedorjuan316.org/event/servicio-evangelistico-e-iglesia-de-ninos-35/
LOCATION:Church\, 413 Fern St.\, Jupiter\, FL\, 33458\, United States
CATEGORIES:SERVICIO EVANGELÍSTICO IGLESIA DE NIÑOS,servicios del domingo
ATTACH;FMTTYPE=image/jpeg:https://elhacedorjuan316.org/wp-content/uploads/2022/12/qtq80-Z4dq6e.jpeg
END:VEVENT
BEGIN:VEVENT
DTSTART;TZID=UTC:20240714T090000
DTEND;TZID=UTC:20240714T120000
DTSTAMP:20260421T193037
CREATED:20240706T170716Z
LAST-MODIFIED:20240706T170716Z
UID:2446-1720947600-1720958400@elhacedorjuan316.org
SUMMARY:SERVICIO EVANGELÍSTICO E IGLESIA DE NIÑOS
DESCRIPTION:SERVICIO EVANGELÍSTICO E IGLESIA DE NIÑOS\n\n9:00AM – Servicio Evangelístico e Iglesia de Niños\n\n\n10:45AM – Servicio Evangelístico e Iglesia de Niños
URL:https://elhacedorjuan316.org/event/servicio-evangelistico-e-iglesia-de-ninos-34/
LOCATION:Church\, 413 Fern St.\, Jupiter\, FL\, 33458\, United States
CATEGORIES:SERVICIO EVANGELÍSTICO IGLESIA DE NIÑOS,servicios del domingo
ATTACH;FMTTYPE=image/jpeg:https://elhacedorjuan316.org/wp-content/uploads/2022/12/qtq80-Z4dq6e.jpeg
END:VEVENT
BEGIN:VEVENT
DTSTART;TZID=UTC:20240707T090000
DTEND;TZID=UTC:20240707T120000
DTSTAMP:20260421T193037
CREATED:20240706T170605Z
LAST-MODIFIED:20240706T170605Z
UID:2444-1720342800-1720353600@elhacedorjuan316.org
SUMMARY:SERVICIO EVANGELÍSTICO E IGLESIA DE NIÑOS
DESCRIPTION:SERVICIO EVANGELÍSTICO E IGLESIA DE NIÑOS\n\n9:00AM – Servicio Evangelístico e Iglesia de Niños\n\n\n10:45AM – Servicio Evangelístico e Iglesia de Niños
URL:https://elhacedorjuan316.org/event/servicio-evangelistico-e-iglesia-de-ninos-33/
LOCATION:Church\, 413 Fern St.\, Jupiter\, FL\, 33458\, United States
CATEGORIES:SERVICIO EVANGELÍSTICO IGLESIA DE NIÑOS,servicios del domingo
ATTACH;FMTTYPE=image/jpeg:https://elhacedorjuan316.org/wp-content/uploads/2022/12/qtq80-Z4dq6e.jpeg
END:VEVENT
BEGIN:VEVENT
DTSTART;TZID=UTC:20240630T090000
DTEND;TZID=UTC:20240630T120000
DTSTAMP:20260421T193037
CREATED:20240602T232632Z
LAST-MODIFIED:20240602T232632Z
UID:2394-1719738000-1719748800@elhacedorjuan316.org
SUMMARY:SERVICIO EVANGELÍSTICO E IGLESIA DE NIÑOS
DESCRIPTION:SERVICIO EVANGELÍSTICO E IGLESIA DE NIÑOS\n\n9:00AM – Servicio Evangelístico e Iglesia de Niños\n\n\n10:45AM – Servicio Evangelístico e Iglesia de Niños
URL:https://elhacedorjuan316.org/event/servicio-evangelistico-e-iglesia-de-ninos-32/
LOCATION:Church\, 413 Fern St.\, Jupiter\, FL\, 33458\, United States
CATEGORIES:SERVICIO EVANGELÍSTICO IGLESIA DE NIÑOS,servicios del domingo
ATTACH;FMTTYPE=image/jpeg:https://elhacedorjuan316.org/wp-content/uploads/2022/12/qtq80-Z4dq6e.jpeg
END:VEVENT
BEGIN:VEVENT
DTSTART;TZID=UTC:20240623T090000
DTEND;TZID=UTC:20240623T120000
DTSTAMP:20260421T193037
CREATED:20240602T232534Z
LAST-MODIFIED:20240602T232534Z
UID:2392-1719133200-1719144000@elhacedorjuan316.org
SUMMARY:SERVICIO EVANGELÍSTICO E IGLESIA DE NIÑOS
DESCRIPTION:SERVICIO EVANGELÍSTICO E IGLESIA DE NIÑOS\n\n9:00AM – Servicio Evangelístico e Iglesia de Niños\n\n\n10:45AM – Servicio Evangelístico e Iglesia de Niños
URL:https://elhacedorjuan316.org/event/servicio-evangelistico-e-iglesia-de-ninos-31/
LOCATION:Church\, 413 Fern St.\, Jupiter\, FL\, 33458\, United States
CATEGORIES:SERVICIO EVANGELÍSTICO IGLESIA DE NIÑOS,servicios del domingo
ATTACH;FMTTYPE=image/jpeg:https://elhacedorjuan316.org/wp-content/uploads/2022/12/qtq80-Z4dq6e.jpeg
END:VEVENT
BEGIN:VEVENT
DTSTART;TZID=UTC:20240616T090000
DTEND;TZID=UTC:20240616T120000
DTSTAMP:20260421T193037
CREATED:20240602T232436Z
LAST-MODIFIED:20240602T232436Z
UID:2390-1718528400-1718539200@elhacedorjuan316.org
SUMMARY:DÍA DE LOS PADRES
DESCRIPTION:SERVICIO EVANGELÍSTICO E IGLESIA DE NIÑOS\n\n9:00AM – Servicio Evangelístico e Iglesia de Niños\n\n\n10:45AM – Servicio Evangelístico e Iglesia de Niños
URL:https://elhacedorjuan316.org/event/dia-de-los-padres/
LOCATION:Church\, 413 Fern St.\, Jupiter\, FL\, 33458\, United States
CATEGORIES:SERVICIO EVANGELÍSTICO IGLESIA DE NIÑOS,servicios del domingo
ATTACH;FMTTYPE=image/jpeg:https://elhacedorjuan316.org/wp-content/uploads/2022/12/qtq80-Z4dq6e.jpeg
END:VEVENT
BEGIN:VEVENT
DTSTART;TZID=UTC:20240609T090000
DTEND;TZID=UTC:20240609T120000
DTSTAMP:20260421T193037
CREATED:20240602T232231Z
LAST-MODIFIED:20240602T232231Z
UID:2388-1717923600-1717934400@elhacedorjuan316.org
SUMMARY:SERVICIO EVANGELÍSTICO E IGLESIA DE NIÑOS
DESCRIPTION:SERVICIO EVANGELÍSTICO E IGLESIA DE NIÑOS\n\n9:00AM – Servicio Evangelístico e Iglesia de Niños\n\n\n10:45AM – Servicio Evangelístico e Iglesia de Niños
URL:https://elhacedorjuan316.org/event/servicio-evangelistico-e-iglesia-de-ninos-30/
LOCATION:Church\, 413 Fern St.\, Jupiter\, FL\, 33458\, United States
CATEGORIES:SERVICIO EVANGELÍSTICO IGLESIA DE NIÑOS,servicios del domingo
ATTACH;FMTTYPE=image/jpeg:https://elhacedorjuan316.org/wp-content/uploads/2022/12/qtq80-Z4dq6e.jpeg
END:VEVENT
BEGIN:VEVENT
DTSTART;TZID=UTC:20240602T090000
DTEND;TZID=UTC:20240602T120000
DTSTAMP:20260421T193037
CREATED:20240602T232013Z
LAST-MODIFIED:20240602T232013Z
UID:2386-1717318800-1717329600@elhacedorjuan316.org
SUMMARY:SERVICIO EVANGELÍSTICO E IGLESIA DE NIÑOS
DESCRIPTION:SERVICIO EVANGELÍSTICO E IGLESIA DE NIÑOS\n\n9:00AM – Servicio Evangelístico e Iglesia de Niños\n\n\n10:45AM – Servicio Evangelístico e Iglesia de Niños
URL:https://elhacedorjuan316.org/event/servicio-evangelistico-e-iglesia-de-ninos-29/
LOCATION:Church\, 413 Fern St.\, Jupiter\, FL\, 33458\, United States
CATEGORIES:SERVICIO EVANGELÍSTICO IGLESIA DE NIÑOS,servicios del domingo
ATTACH;FMTTYPE=image/jpeg:https://elhacedorjuan316.org/wp-content/uploads/2022/12/qtq80-Z4dq6e.jpeg
END:VEVENT
BEGIN:VEVENT
DTSTART;TZID=UTC:20240526T090000
DTEND;TZID=UTC:20240526T120000
DTSTAMP:20260421T193037
CREATED:20240516T164121Z
LAST-MODIFIED:20240516T164121Z
UID:2374-1716714000-1716724800@elhacedorjuan316.org
SUMMARY:SERVICIO EVANGELÍSTICO E IGLESIA DE NIÑOS
DESCRIPTION:SERVICIO EVANGELÍSTICO E IGLESIA DE NIÑOS\n\n9:00AM – Servicio Evangelístico e Iglesia de Niños\n\n\n10:45AM – Servicio Evangelístico e Iglesia de Niños
URL:https://elhacedorjuan316.org/event/servicio-evangelistico-e-iglesia-de-ninos-28/
LOCATION:Church\, 413 Fern St.\, Jupiter\, FL\, 33458\, United States
CATEGORIES:SERVICIO EVANGELÍSTICO IGLESIA DE NIÑOS,servicios del domingo
ATTACH;FMTTYPE=image/jpeg:https://elhacedorjuan316.org/wp-content/uploads/2022/12/qtq80-Z4dq6e.jpeg
END:VEVENT
BEGIN:VEVENT
DTSTART;TZID=UTC:20240519T090000
DTEND;TZID=UTC:20240519T120000
DTSTAMP:20260421T193037
CREATED:20240516T164018Z
LAST-MODIFIED:20240516T164018Z
UID:2372-1716109200-1716120000@elhacedorjuan316.org
SUMMARY:DOMIGO PENTECOSTES
DESCRIPTION:SERVICIO EVANGELÍSTICO E IGLESIA DE NIÑOS\n\n9:00AM – Servicio Evangelístico e Iglesia de Niños\n\n\n10:45AM – Servicio Evangelístico e Iglesia de Niños
URL:https://elhacedorjuan316.org/event/domigo-pentecostes/
LOCATION:Church\, 413 Fern St.\, Jupiter\, FL\, 33458\, United States
CATEGORIES:SERVICIO EVANGELÍSTICO IGLESIA DE NIÑOS,servicios del domingo
ATTACH;FMTTYPE=image/jpeg:https://elhacedorjuan316.org/wp-content/uploads/2022/12/qtq80-Z4dq6e.jpeg
END:VEVENT
BEGIN:VEVENT
DTSTART;TZID=UTC:20240512T090000
DTEND;TZID=UTC:20240512T120000
DTSTAMP:20260421T193037
CREATED:20240516T163854Z
LAST-MODIFIED:20240516T163854Z
UID:2370-1715504400-1715515200@elhacedorjuan316.org
SUMMARY:DÍA DE LAS MADRES
DESCRIPTION:SERVICIO EVANGELÍSTICO E IGLESIA DE NIÑOS\n\n9:00AM – Servicio Evangelístico e Iglesia de Niños\n\n\n10:45AM – Servicio Evangelístico e Iglesia de Niños
URL:https://elhacedorjuan316.org/event/dia-de-las-madres/
LOCATION:Church\, 413 Fern St.\, Jupiter\, FL\, 33458\, United States
CATEGORIES:SERVICIO EVANGELÍSTICO IGLESIA DE NIÑOS,servicios del domingo
ATTACH;FMTTYPE=image/jpeg:https://elhacedorjuan316.org/wp-content/uploads/2022/12/qtq80-Z4dq6e.jpeg
END:VEVENT
END:VCALENDAR