BEGIN:VCALENDAR
VERSION:2.0
PRODID:-//El Hacedor Juan 3:16 AG - ECPv6.15.20//NONSGML v1.0//EN
CALSCALE:GREGORIAN
METHOD:PUBLISH
X-ORIGINAL-URL:https://elhacedorjuan316.org
X-WR-CALDESC:Events for El Hacedor Juan 3:16 AG
REFRESH-INTERVAL;VALUE=DURATION:PT1H
X-Robots-Tag:noindex
X-PUBLISHED-TTL:PT1H
BEGIN:VTIMEZONE
TZID:UTC
BEGIN:STANDARD
TZOFFSETFROM:+0000
TZOFFSETTO:+0000
TZNAME:UTC
DTSTART:20230101T000000
END:STANDARD
END:VTIMEZONE
BEGIN:VEVENT
DTSTART;TZID=UTC:20241215T090000
DTEND;TZID=UTC:20241215T120000
DTSTAMP:20260422T220132
CREATED:20241206T152900Z
LAST-MODIFIED:20241206T152900Z
UID:2609-1734253200-1734264000@elhacedorjuan316.org
SUMMARY:SERVICIO EVANGELÍSTICO E IGLESIA DE NIÑOS
DESCRIPTION:SERVICIO EVANGELÍSTICO E IGLESIA DE NIÑOS\n\n9:00AM – Servicio Evangelístico e Iglesia de Niños\n\n\n10:45AM – Servicio Evangelístico e Iglesia de Niños
URL:https://elhacedorjuan316.org/event/servicio-evangelistico-e-iglesia-de-ninos-49/
LOCATION:Church\, 413 Fern St.\, Jupiter\, FL\, 33458\, United States
CATEGORIES:SERVICIO EVANGELÍSTICO IGLESIA DE NIÑOS,servicios del domingo
ATTACH;FMTTYPE=image/jpeg:https://elhacedorjuan316.org/wp-content/uploads/2022/12/qtq80-Z4dq6e.jpeg
END:VEVENT
BEGIN:VEVENT
DTSTART;TZID=UTC:20241222T090000
DTEND;TZID=UTC:20241222T120000
DTSTAMP:20260422T220132
CREATED:20241206T152949Z
LAST-MODIFIED:20241206T152949Z
UID:2611-1734858000-1734868800@elhacedorjuan316.org
SUMMARY:SERVICIO EVANGELÍSTICO E IGLESIA DE NIÑOS
DESCRIPTION:SERVICIO EVANGELÍSTICO E IGLESIA DE NIÑOS\n\n9:00AM – Servicio Evangelístico e Iglesia de Niños\n\n\n10:45AM – Servicio Evangelístico e Iglesia de Niños
URL:https://elhacedorjuan316.org/event/servicio-evangelistico-e-iglesia-de-ninos-50/
LOCATION:Church\, 413 Fern St.\, Jupiter\, FL\, 33458\, United States
CATEGORIES:SERVICIO EVANGELÍSTICO IGLESIA DE NIÑOS,servicios del domingo
ATTACH;FMTTYPE=image/jpeg:https://elhacedorjuan316.org/wp-content/uploads/2022/12/qtq80-Z4dq6e.jpeg
END:VEVENT
BEGIN:VEVENT
DTSTART;TZID=UTC:20241229T090000
DTEND;TZID=UTC:20241229T120000
DTSTAMP:20260422T220132
CREATED:20241206T153047Z
LAST-MODIFIED:20241206T153047Z
UID:2613-1735462800-1735473600@elhacedorjuan316.org
SUMMARY:SERVICIO EVANGELÍSTICO E IGLESIA DE NIÑOS
DESCRIPTION:SERVICIO EVANGELÍSTICO E IGLESIA DE NIÑOS\n\n9:00AM – Servicio Evangelístico e Iglesia de Niños\n\n\n10:45AM – Servicio Evangelístico e Iglesia de Niños
URL:https://elhacedorjuan316.org/event/servicio-evangelistico-e-iglesia-de-ninos-51/
LOCATION:Church\, 413 Fern St.\, Jupiter\, FL\, 33458\, United States
CATEGORIES:SERVICIO EVANGELÍSTICO IGLESIA DE NIÑOS,servicios del domingo
ATTACH;FMTTYPE=image/jpeg:https://elhacedorjuan316.org/wp-content/uploads/2022/12/qtq80-Z4dq6e.jpeg
END:VEVENT
BEGIN:VEVENT
DTSTART;TZID=UTC:20250105T090000
DTEND;TZID=UTC:20250105T120000
DTSTAMP:20260422T220132
CREATED:20241228T015321Z
LAST-MODIFIED:20241228T015321Z
UID:2641-1736067600-1736078400@elhacedorjuan316.org
SUMMARY:SERVICIO EVANGELÍSTICO E IGLESIA DE NIÑOS
DESCRIPTION:SERVICIO EVANGELÍSTICO E IGLESIA DE NIÑOS\n\n9:00AM – Servicio Evangelístico e Iglesia de Niños\n\n\n10:45AM – Servicio Evangelístico e Iglesia de Niños
URL:https://elhacedorjuan316.org/event/servicio-evangelistico-e-iglesia-de-ninos-52/
LOCATION:Church\, 413 Fern St.\, Jupiter\, FL\, 33458\, United States
CATEGORIES:SERVICIO EVANGELÍSTICO IGLESIA DE NIÑOS,servicios del domingo
ATTACH;FMTTYPE=image/jpeg:https://elhacedorjuan316.org/wp-content/uploads/2022/12/qtq80-Z4dq6e.jpeg
END:VEVENT
BEGIN:VEVENT
DTSTART;TZID=UTC:20250112T090000
DTEND;TZID=UTC:20250112T120000
DTSTAMP:20260422T220132
CREATED:20241228T015426Z
LAST-MODIFIED:20241228T015426Z
UID:2643-1736672400-1736683200@elhacedorjuan316.org
SUMMARY:SERVICIO EVANGELÍSTICO E IGLESIA DE NIÑOS
DESCRIPTION:SERVICIO EVANGELÍSTICO E IGLESIA DE NIÑOS\n\n9:00AM – Servicio Evangelístico e Iglesia de Niños\n\n\n10:45AM – Servicio Evangelístico e Iglesia de Niños
URL:https://elhacedorjuan316.org/event/servicio-evangelistico-e-iglesia-de-ninos-53/
LOCATION:Church\, 413 Fern St.\, Jupiter\, FL\, 33458\, United States
CATEGORIES:SERVICIO EVANGELÍSTICO IGLESIA DE NIÑOS,servicios del domingo
ATTACH;FMTTYPE=image/jpeg:https://elhacedorjuan316.org/wp-content/uploads/2022/12/qtq80-Z4dq6e.jpeg
END:VEVENT
BEGIN:VEVENT
DTSTART;TZID=UTC:20250119T090000
DTEND;TZID=UTC:20250119T120000
DTSTAMP:20260422T220132
CREATED:20241228T015526Z
LAST-MODIFIED:20241228T015526Z
UID:2645-1737277200-1737288000@elhacedorjuan316.org
SUMMARY:SERVICIO EVANGELÍSTICO E IGLESIA DE NIÑOS
DESCRIPTION:SERVICIO EVANGELÍSTICO E IGLESIA DE NIÑOS\n\n9:00AM – Servicio Evangelístico e Iglesia de Niños\n\n\n10:45AM – Servicio Evangelístico e Iglesia de Niños
URL:https://elhacedorjuan316.org/event/servicio-evangelistico-e-iglesia-de-ninos-54/
LOCATION:Church\, 413 Fern St.\, Jupiter\, FL\, 33458\, United States
CATEGORIES:SERVICIO EVANGELÍSTICO IGLESIA DE NIÑOS,servicios del domingo
ATTACH;FMTTYPE=image/jpeg:https://elhacedorjuan316.org/wp-content/uploads/2022/12/qtq80-Z4dq6e.jpeg
END:VEVENT
BEGIN:VEVENT
DTSTART;TZID=UTC:20250126T090000
DTEND;TZID=UTC:20250126T120000
DTSTAMP:20260422T220132
CREATED:20241228T015708Z
LAST-MODIFIED:20241228T015708Z
UID:2647-1737882000-1737892800@elhacedorjuan316.org
SUMMARY:SERVICIO EVANGELÍSTICO E IGLESIA DE NIÑOS
DESCRIPTION:SERVICIO EVANGELÍSTICO E IGLESIA DE NIÑOS\n\n9:00AM – Servicio Evangelístico e Iglesia de Niños\n\n\n10:45AM – Servicio Evangelístico e Iglesia de Niños
URL:https://elhacedorjuan316.org/event/servicio-evangelistico-e-iglesia-de-ninos-55/
LOCATION:Church\, 413 Fern St.\, Jupiter\, FL\, 33458\, United States
CATEGORIES:SERVICIO EVANGELÍSTICO IGLESIA DE NIÑOS,servicios del domingo
ATTACH;FMTTYPE=image/jpeg:https://elhacedorjuan316.org/wp-content/uploads/2022/12/qtq80-Z4dq6e.jpeg
END:VEVENT
BEGIN:VEVENT
DTSTART;TZID=UTC:20250202T090000
DTEND;TZID=UTC:20250202T120000
DTSTAMP:20260422T220132
CREATED:20250201T014054Z
LAST-MODIFIED:20250201T014054Z
UID:2678-1738486800-1738497600@elhacedorjuan316.org
SUMMARY:SERVICIO EVANGELÍSTICO E IGLESIA DE NIÑOS
DESCRIPTION:SERVICIO EVANGELÍSTICO E IGLESIA DE NIÑOS\n\n9:00AM – Servicio Evangelístico e Iglesia de Niños\n\n\n10:45AM – Servicio Evangelístico e Iglesia de Niños
URL:https://elhacedorjuan316.org/event/servicio-evangelistico-e-iglesia-de-ninos-56/
LOCATION:Church\, 413 Fern St.\, Jupiter\, FL\, 33458\, United States
CATEGORIES:SERVICIO EVANGELÍSTICO IGLESIA DE NIÑOS,servicios del domingo
ATTACH;FMTTYPE=image/jpeg:https://elhacedorjuan316.org/wp-content/uploads/2022/12/qtq80-Z4dq6e.jpeg
END:VEVENT
BEGIN:VEVENT
DTSTART;TZID=UTC:20250209T090000
DTEND;TZID=UTC:20250209T120000
DTSTAMP:20260422T220132
CREATED:20250201T014205Z
LAST-MODIFIED:20250201T014205Z
UID:2680-1739091600-1739102400@elhacedorjuan316.org
SUMMARY:SERVICIO EVANGELÍSTICO E IGLESIA DE NIÑOS
DESCRIPTION:SERVICIO EVANGELÍSTICO E IGLESIA DE NIÑOS\n\n9:00AM – Servicio Evangelístico e Iglesia de Niños\n\n\n10:45AM – Servicio Evangelístico e Iglesia de Niños
URL:https://elhacedorjuan316.org/event/servicio-evangelistico-e-iglesia-de-ninos-57/
LOCATION:Church\, 413 Fern St.\, Jupiter\, FL\, 33458\, United States
CATEGORIES:SERVICIO EVANGELÍSTICO IGLESIA DE NIÑOS,servicios del domingo
ATTACH;FMTTYPE=image/jpeg:https://elhacedorjuan316.org/wp-content/uploads/2022/12/qtq80-Z4dq6e.jpeg
END:VEVENT
BEGIN:VEVENT
DTSTART;TZID=UTC:20250216T090000
DTEND;TZID=UTC:20250216T120000
DTSTAMP:20260422T220132
CREATED:20250201T014316Z
LAST-MODIFIED:20250201T014316Z
UID:2682-1739696400-1739707200@elhacedorjuan316.org
SUMMARY:SERVICIO EVANGELÍSTICO E IGLESIA DE NIÑOS
DESCRIPTION:SERVICIO EVANGELÍSTICO E IGLESIA DE NIÑOS\n\n9:00AM – Servicio Evangelístico e Iglesia de Niños\n\n\n10:45AM – Servicio Evangelístico e Iglesia de Niños
URL:https://elhacedorjuan316.org/event/servicio-evangelistico-e-iglesia-de-ninos-58/
LOCATION:Church\, 413 Fern St.\, Jupiter\, FL\, 33458\, United States
CATEGORIES:SERVICIO EVANGELÍSTICO IGLESIA DE NIÑOS,servicios del domingo
ATTACH;FMTTYPE=image/jpeg:https://elhacedorjuan316.org/wp-content/uploads/2022/12/qtq80-Z4dq6e.jpeg
END:VEVENT
BEGIN:VEVENT
DTSTART;TZID=UTC:20250223T090000
DTEND;TZID=UTC:20250223T120000
DTSTAMP:20260422T220132
CREATED:20250201T014419Z
LAST-MODIFIED:20250201T014419Z
UID:2684-1740301200-1740312000@elhacedorjuan316.org
SUMMARY:SERVICIO EVANGELÍSTICO E IGLESIA DE NIÑOS
DESCRIPTION:SERVICIO EVANGELÍSTICO E IGLESIA DE NIÑOS\n\n9:00AM – Servicio Evangelístico e Iglesia de Niños\n\n\n10:45AM – Servicio Evangelístico e Iglesia de Niños
URL:https://elhacedorjuan316.org/event/servicio-evangelistico-e-iglesia-de-ninos-59/
LOCATION:Church\, 413 Fern St.\, Jupiter\, FL\, 33458\, United States
CATEGORIES:SERVICIO EVANGELÍSTICO IGLESIA DE NIÑOS,servicios del domingo
ATTACH;FMTTYPE=image/jpeg:https://elhacedorjuan316.org/wp-content/uploads/2022/12/qtq80-Z4dq6e.jpeg
END:VEVENT
BEGIN:VEVENT
DTSTART;TZID=UTC:20250302T090000
DTEND;TZID=UTC:20250302T120000
DTSTAMP:20260422T220132
CREATED:20250306T163745Z
LAST-MODIFIED:20250306T163745Z
UID:2768-1740906000-1740916800@elhacedorjuan316.org
SUMMARY:SERVICIO EVANGELÍSTICO E IGLESIA DE NIÑOS
DESCRIPTION:SERVICIO EVANGELÍSTICO E IGLESIA DE NIÑOS\n\n9:00AM – Servicio Evangelístico e Iglesia de Niños\n\n\n10:45AM – Servicio Evangelístico e Iglesia de Niños
URL:https://elhacedorjuan316.org/event/servicio-evangelistico-e-iglesia-de-ninos-60/
LOCATION:Church\, 413 Fern St.\, Jupiter\, FL\, 33458\, United States
CATEGORIES:SERVICIO EVANGELÍSTICO IGLESIA DE NIÑOS,servicios del domingo
ATTACH;FMTTYPE=image/jpeg:https://elhacedorjuan316.org/wp-content/uploads/2022/12/qtq80-Z4dq6e.jpeg
END:VEVENT
BEGIN:VEVENT
DTSTART;TZID=UTC:20250309T090000
DTEND;TZID=UTC:20250309T120000
DTSTAMP:20260422T220132
CREATED:20250306T163855Z
LAST-MODIFIED:20250306T163855Z
UID:2770-1741510800-1741521600@elhacedorjuan316.org
SUMMARY:SERVICIO EVANGELÍSTICO E IGLESIA DE NIÑOS
DESCRIPTION:SERVICIO EVANGELÍSTICO E IGLESIA DE NIÑOS\n\n9:00AM – Servicio Evangelístico e Iglesia de Niños\n\n\n10:45AM – Servicio Evangelístico e Iglesia de Niños
URL:https://elhacedorjuan316.org/event/servicio-evangelistico-e-iglesia-de-ninos-61/
LOCATION:Church\, 413 Fern St.\, Jupiter\, FL\, 33458\, United States
CATEGORIES:SERVICIO EVANGELÍSTICO IGLESIA DE NIÑOS,servicios del domingo
ATTACH;FMTTYPE=image/jpeg:https://elhacedorjuan316.org/wp-content/uploads/2022/12/qtq80-Z4dq6e.jpeg
END:VEVENT
BEGIN:VEVENT
DTSTART;TZID=UTC:20250316T090000
DTEND;TZID=UTC:20250316T120000
DTSTAMP:20260422T220132
CREATED:20250306T164009Z
LAST-MODIFIED:20250306T164009Z
UID:2772-1742115600-1742126400@elhacedorjuan316.org
SUMMARY:SERVICIO EVANGELÍSTICO E IGLESIA DE NIÑOS
DESCRIPTION:SERVICIO EVANGELÍSTICO E IGLESIA DE NIÑOS\n\n9:00AM – Servicio Evangelístico e Iglesia de Niños\n\n\n10:45AM – Servicio Evangelístico e Iglesia de Niños
URL:https://elhacedorjuan316.org/event/servicio-evangelistico-e-iglesia-de-ninos-62/
LOCATION:Church\, 413 Fern St.\, Jupiter\, FL\, 33458\, United States
CATEGORIES:SERVICIO EVANGELÍSTICO IGLESIA DE NIÑOS,servicios del domingo
ATTACH;FMTTYPE=image/jpeg:https://elhacedorjuan316.org/wp-content/uploads/2022/12/qtq80-Z4dq6e.jpeg
END:VEVENT
BEGIN:VEVENT
DTSTART;TZID=UTC:20250323T090000
DTEND;TZID=UTC:20250323T120000
DTSTAMP:20260422T220132
CREATED:20250306T164139Z
LAST-MODIFIED:20250306T164139Z
UID:2774-1742720400-1742731200@elhacedorjuan316.org
SUMMARY:SERVICIO EVANGELÍSTICO E IGLESIA DE NIÑOS
DESCRIPTION:SERVICIO EVANGELÍSTICO E IGLESIA DE NIÑOS\n\n9:00AM – Servicio Evangelístico e Iglesia de Niños\n\n\n10:45AM – Servicio Evangelístico e Iglesia de Niños
URL:https://elhacedorjuan316.org/event/servicio-evangelistico-e-iglesia-de-ninos-63/
LOCATION:Church\, 413 Fern St.\, Jupiter\, FL\, 33458\, United States
CATEGORIES:SERVICIO EVANGELÍSTICO IGLESIA DE NIÑOS,servicios del domingo
ATTACH;FMTTYPE=image/jpeg:https://elhacedorjuan316.org/wp-content/uploads/2022/12/qtq80-Z4dq6e.jpeg
END:VEVENT
BEGIN:VEVENT
DTSTART;TZID=UTC:20250330T090000
DTEND;TZID=UTC:20250330T120000
DTSTAMP:20260422T220132
CREATED:20250306T164312Z
LAST-MODIFIED:20250306T164312Z
UID:2776-1743325200-1743336000@elhacedorjuan316.org
SUMMARY:SERVICIO EVANGELÍSTICO E IGLESIA DE NIÑOS
DESCRIPTION:SERVICIO EVANGELÍSTICO E IGLESIA DE NIÑOS\n\n9:00AM – Servicio Evangelístico e Iglesia de Niños\n\n\n10:45AM – Servicio Evangelístico e Iglesia de Niños
URL:https://elhacedorjuan316.org/event/servicio-evangelistico-e-iglesia-de-ninos-64/
LOCATION:Church\, 413 Fern St.\, Jupiter\, FL\, 33458\, United States
CATEGORIES:SERVICIO EVANGELÍSTICO IGLESIA DE NIÑOS,servicios del domingo
ATTACH;FMTTYPE=image/jpeg:https://elhacedorjuan316.org/wp-content/uploads/2022/12/qtq80-Z4dq6e.jpeg
END:VEVENT
BEGIN:VEVENT
DTSTART;TZID=UTC:20250406T090000
DTEND;TZID=UTC:20250406T120000
DTSTAMP:20260422T220132
CREATED:20250410T021353Z
LAST-MODIFIED:20250410T021353Z
UID:2803-1743930000-1743940800@elhacedorjuan316.org
SUMMARY:SERVICIO EVANGELÍSTICO E IGLESIA DE NIÑOS
DESCRIPTION:SERVICIO EVANGELÍSTICO E IGLESIA DE NIÑOS\n\n9:00AM – Servicio Evangelístico e Iglesia de Niños\n\n\n10:45AM – Servicio Evangelístico e Iglesia de Niños
URL:https://elhacedorjuan316.org/event/servicio-evangelistico-e-iglesia-de-ninos-65/
LOCATION:Church\, 413 Fern St.\, Jupiter\, FL\, 33458\, United States
CATEGORIES:SERVICIO EVANGELÍSTICO IGLESIA DE NIÑOS,servicios del domingo
ATTACH;FMTTYPE=image/jpeg:https://elhacedorjuan316.org/wp-content/uploads/2022/12/qtq80-UVkzUM.jpeg
END:VEVENT
BEGIN:VEVENT
DTSTART;TZID=UTC:20250413T090000
DTEND;TZID=UTC:20250413T120000
DTSTAMP:20260422T220132
CREATED:20250410T021516Z
LAST-MODIFIED:20250410T024034Z
UID:2805-1744534800-1744545600@elhacedorjuan316.org
SUMMARY:DOMINGO DE RAMOS
DESCRIPTION:SERVICIO EVANGELÍSTICO E IGLESIA DE NIÑOS\n\n9:00AM – Servicio Evangelístico e Iglesia de Niños\n\n\n10:45AM – Servicio Evangelístico e Iglesia de Niños
URL:https://elhacedorjuan316.org/event/domingo-de-ramos-2/
LOCATION:Church\, 413 Fern St.\, Jupiter\, FL\, 33458\, United States
CATEGORIES:SERVICIO EVANGELÍSTICO IGLESIA DE NIÑOS,servicios del domingo
ATTACH;FMTTYPE=image/webp:https://elhacedorjuan316.org/wp-content/uploads/2025/04/iStock-155386151.webp
END:VEVENT
BEGIN:VEVENT
DTSTART;TZID=UTC:20250420T090000
DTEND;TZID=UTC:20250420T120000
DTSTAMP:20260422T220132
CREATED:20250410T021651Z
LAST-MODIFIED:20250410T024432Z
UID:2807-1745139600-1745150400@elhacedorjuan316.org
SUMMARY:DOMINGO DE RESURECCIÓN
DESCRIPTION:SERVICIO EVANGELÍSTICO E IGLESIA DE NIÑOS\n\n9:00AM – Servicio Evangelístico e Iglesia de Niños\n\n\n10:45AM – Servicio Evangelístico e Iglesia de Niños
URL:https://elhacedorjuan316.org/event/domingo-de-resureccion/
LOCATION:Church\, 413 Fern St.\, Jupiter\, FL\, 33458\, United States
CATEGORIES:SERVICIO EVANGELÍSTICO IGLESIA DE NIÑOS,servicios del domingo
ATTACH;FMTTYPE=image/jpeg:https://elhacedorjuan316.org/wp-content/uploads/2022/12/BG-2.jpg
END:VEVENT
BEGIN:VEVENT
DTSTART;TZID=UTC:20250427T090000
DTEND;TZID=UTC:20250427T120000
DTSTAMP:20260422T220132
CREATED:20250410T021739Z
LAST-MODIFIED:20250410T021739Z
UID:2809-1745744400-1745755200@elhacedorjuan316.org
SUMMARY:SERVICIO EVANGELÍSTICO E IGLESIA DE NIÑOS
DESCRIPTION:SERVICIO EVANGELÍSTICO E IGLESIA DE NIÑOS\n\n9:00AM – Servicio Evangelístico e Iglesia de Niños\n\n\n10:45AM – Servicio Evangelístico e Iglesia de Niños
URL:https://elhacedorjuan316.org/event/servicio-evangelistico-e-iglesia-de-ninos-66/
LOCATION:Church\, 413 Fern St.\, Jupiter\, FL\, 33458\, United States
CATEGORIES:SERVICIO EVANGELÍSTICO IGLESIA DE NIÑOS,servicios del domingo
ATTACH;FMTTYPE=image/jpeg:https://elhacedorjuan316.org/wp-content/uploads/2022/12/qtq80-UVkzUM.jpeg
END:VEVENT
BEGIN:VEVENT
DTSTART;TZID=UTC:20250504T090000
DTEND;TZID=UTC:20250504T120000
DTSTAMP:20260422T220132
CREATED:20250507T024321Z
LAST-MODIFIED:20250507T024321Z
UID:2845-1746349200-1746360000@elhacedorjuan316.org
SUMMARY:SERVICIO ESPECIAL JOVENES
DESCRIPTION:SERVICIO EVANGELÍSTICO E IGLESIA DE NIÑOS\n\n9:00AM – Servicio Evangelístico e Iglesia de Niños\n\n\n10:45AM – Servicio Evangelístico e Iglesia de Niños
URL:https://elhacedorjuan316.org/event/servicio-especial-jovenes/
LOCATION:Church\, 413 Fern St.\, Jupiter\, FL\, 33458\, United States
CATEGORIES:SERVICIO EVANGELÍSTICO IGLESIA DE NIÑOS,servicios del domingo
ATTACH;FMTTYPE=image/jpeg:https://elhacedorjuan316.org/wp-content/uploads/2022/12/qtq80-UVkzUM.jpeg
END:VEVENT
BEGIN:VEVENT
DTSTART;TZID=UTC:20250511T090000
DTEND;TZID=UTC:20250511T120000
DTSTAMP:20260422T220132
CREATED:20250507T024516Z
LAST-MODIFIED:20250507T024516Z
UID:2847-1746954000-1746964800@elhacedorjuan316.org
SUMMARY:DÍA DE LAS MADRES
DESCRIPTION:SERVICIO EVANGELÍSTICO E IGLESIA DE NIÑOS\n\n9:00AM – Servicio Evangelístico e Iglesia de Niños\n\n\n10:45AM – Servicio Evangelístico e Iglesia de Niños
URL:https://elhacedorjuan316.org/event/dia-de-las-madres-2/
LOCATION:Church\, 413 Fern St.\, Jupiter\, FL\, 33458\, United States
CATEGORIES:SERVICIO EVANGELÍSTICO IGLESIA DE NIÑOS,servicios del domingo
ATTACH;FMTTYPE=image/jpeg:https://elhacedorjuan316.org/wp-content/uploads/2022/12/qtq80-UVkzUM.jpeg
END:VEVENT
BEGIN:VEVENT
DTSTART;TZID=UTC:20250518T090000
DTEND;TZID=UTC:20250518T120000
DTSTAMP:20260422T220132
CREATED:20250507T024644Z
LAST-MODIFIED:20250507T024644Z
UID:2849-1747558800-1747569600@elhacedorjuan316.org
SUMMARY:SERVICIO EVANGELÍSTICO E IGLESIA DE NIÑOS
DESCRIPTION:SERVICIO EVANGELÍSTICO E IGLESIA DE NIÑOS\n\n9:00AM – Servicio Evangelístico e Iglesia de Niños\n\n\n10:45AM – Servicio Evangelístico e Iglesia de Niños
URL:https://elhacedorjuan316.org/event/servicio-evangelistico-e-iglesia-de-ninos-67/
LOCATION:Church\, 413 Fern St.\, Jupiter\, FL\, 33458\, United States
CATEGORIES:SERVICIO EVANGELÍSTICO IGLESIA DE NIÑOS,servicios del domingo
ATTACH;FMTTYPE=image/jpeg:https://elhacedorjuan316.org/wp-content/uploads/2022/12/qtq80-UVkzUM.jpeg
END:VEVENT
BEGIN:VEVENT
DTSTART;TZID=UTC:20250525T090000
DTEND;TZID=UTC:20250525T120000
DTSTAMP:20260422T220132
CREATED:20250507T024819Z
LAST-MODIFIED:20250507T024819Z
UID:2851-1748163600-1748174400@elhacedorjuan316.org
SUMMARY:SERVICIO EVANGELÍSTICO E IGLESIA DE NIÑOS
DESCRIPTION:SERVICIO EVANGELÍSTICO E IGLESIA DE NIÑOS\n\n9:00AM – Servicio Evangelístico e Iglesia de Niños\n\n\n10:45AM – Servicio Evangelístico e Iglesia de Niños
URL:https://elhacedorjuan316.org/event/servicio-evangelistico-e-iglesia-de-ninos-68/
LOCATION:Church\, 413 Fern St.\, Jupiter\, FL\, 33458\, United States
CATEGORIES:SERVICIO EVANGELÍSTICO IGLESIA DE NIÑOS,servicios del domingo
ATTACH;FMTTYPE=image/jpeg:https://elhacedorjuan316.org/wp-content/uploads/2022/12/qtq80-UVkzUM.jpeg
END:VEVENT
BEGIN:VEVENT
DTSTART;TZID=UTC:20250601T090000
DTEND;TZID=UTC:20250601T120000
DTSTAMP:20260422T220132
CREATED:20250602T235337Z
LAST-MODIFIED:20250602T235337Z
UID:2920-1748768400-1748779200@elhacedorjuan316.org
SUMMARY:SERVICIO EVANGELÍSTICO E IGLESIA DE NIÑOS
DESCRIPTION:SERVICIO EVANGELÍSTICO E IGLESIA DE NIÑOS\n\n9:00AM – Servicio Evangelístico e Iglesia de Niños\n\n\n10:45AM – Servicio Evangelístico e Iglesia de Niños
URL:https://elhacedorjuan316.org/event/servicio-evangelistico-e-iglesia-de-ninos-69/
LOCATION:Church\, 413 Fern St.\, Jupiter\, FL\, 33458\, United States
CATEGORIES:SERVICIO EVANGELÍSTICO IGLESIA DE NIÑOS,servicios del domingo
ATTACH;FMTTYPE=image/jpeg:https://elhacedorjuan316.org/wp-content/uploads/2022/12/qtq80-UVkzUM.jpeg
END:VEVENT
BEGIN:VEVENT
DTSTART;TZID=UTC:20250608T090000
DTEND;TZID=UTC:20250608T120000
DTSTAMP:20260422T220132
CREATED:20250602T235546Z
LAST-MODIFIED:20250602T235546Z
UID:2922-1749373200-1749384000@elhacedorjuan316.org
SUMMARY:CAMPAÑA AVIVAMIENTO DOMINGO PENTECOSTES
DESCRIPTION:SERVICIO EVANGELÍSTICO E IGLESIA DE NIÑOS\n\n9:00AM – Servicio Evangelístico e Iglesia de Niños\n\n\n10:45AM – Servicio Evangelístico e Iglesia de Niños
URL:https://elhacedorjuan316.org/event/campana-avivamiento-domingo-pentecostes/
LOCATION:Church\, 413 Fern St.\, Jupiter\, FL\, 33458\, United States
CATEGORIES:SERVICIO EVANGELÍSTICO IGLESIA DE NIÑOS,servicios del domingo
ATTACH;FMTTYPE=image/jpeg:https://elhacedorjuan316.org/wp-content/uploads/2022/12/qtq80-UVkzUM.jpeg
END:VEVENT
BEGIN:VEVENT
DTSTART;TZID=UTC:20250615T090000
DTEND;TZID=UTC:20250615T120000
DTSTAMP:20260422T220132
CREATED:20250602T235723Z
LAST-MODIFIED:20250602T235723Z
UID:2924-1749978000-1749988800@elhacedorjuan316.org
SUMMARY:DÍA DE LOS PADRES
DESCRIPTION:SERVICIO EVANGELÍSTICO E IGLESIA DE NIÑOS\n\n9:00AM – Servicio Evangelístico e Iglesia de Niños\n\n\n10:45AM – Servicio Evangelístico e Iglesia de Niños
URL:https://elhacedorjuan316.org/event/dia-de-los-padres-2/
LOCATION:Church\, 413 Fern St.\, Jupiter\, FL\, 33458\, United States
CATEGORIES:SERVICIO EVANGELÍSTICO IGLESIA DE NIÑOS,servicios del domingo
ATTACH;FMTTYPE=image/jpeg:https://elhacedorjuan316.org/wp-content/uploads/2022/12/qtq80-UVkzUM.jpeg
END:VEVENT
BEGIN:VEVENT
DTSTART;TZID=UTC:20250622T090000
DTEND;TZID=UTC:20250622T120000
DTSTAMP:20260422T220132
CREATED:20250602T235818Z
LAST-MODIFIED:20250602T235818Z
UID:2926-1750582800-1750593600@elhacedorjuan316.org
SUMMARY:SERVICIO EVANGELÍSTICO E IGLESIA DE NIÑOS
DESCRIPTION:SERVICIO EVANGELÍSTICO E IGLESIA DE NIÑOS\n\n9:00AM – Servicio Evangelístico e Iglesia de Niños\n\n\n10:45AM – Servicio Evangelístico e Iglesia de Niños
URL:https://elhacedorjuan316.org/event/servicio-evangelistico-e-iglesia-de-ninos-70/
LOCATION:Church\, 413 Fern St.\, Jupiter\, FL\, 33458\, United States
CATEGORIES:SERVICIO EVANGELÍSTICO IGLESIA DE NIÑOS,servicios del domingo
ATTACH;FMTTYPE=image/jpeg:https://elhacedorjuan316.org/wp-content/uploads/2022/12/qtq80-UVkzUM.jpeg
END:VEVENT
BEGIN:VEVENT
DTSTART;TZID=UTC:20250629T090000
DTEND;TZID=UTC:20250629T120000
DTSTAMP:20260422T220132
CREATED:20250602T235928Z
LAST-MODIFIED:20250602T235928Z
UID:2928-1751187600-1751198400@elhacedorjuan316.org
SUMMARY:SERVICIO EVANGELÍSTICO E IGLESIA DE NIÑOS
DESCRIPTION:SERVICIO EVANGELÍSTICO E IGLESIA DE NIÑOS\n\n9:00AM – Servicio Evangelístico e Iglesia de Niños\n\n\n10:45AM – Servicio Evangelístico e Iglesia de Niños
URL:https://elhacedorjuan316.org/event/servicio-evangelistico-e-iglesia-de-ninos-71/
LOCATION:Church\, 413 Fern St.\, Jupiter\, FL\, 33458\, United States
CATEGORIES:SERVICIO EVANGELÍSTICO IGLESIA DE NIÑOS,servicios del domingo
ATTACH;FMTTYPE=image/jpeg:https://elhacedorjuan316.org/wp-content/uploads/2022/12/qtq80-UVkzUM.jpeg
END:VEVENT
BEGIN:VEVENT
DTSTART;TZID=UTC:20250706T090000
DTEND;TZID=UTC:20250706T120000
DTSTAMP:20260422T220132
CREATED:20250708T155034Z
LAST-MODIFIED:20250708T155034Z
UID:2982-1751792400-1751803200@elhacedorjuan316.org
SUMMARY:SERVICIO EVANGELÍSTICO E IGLESIA DE NIÑOS
DESCRIPTION:SERVICIO EVANGELÍSTICO E IGLESIA DE NIÑOS\n\n9:00AM – Servicio Evangelístico e Iglesia de Niños\n\n\n10:45AM – Servicio Evangelístico e Iglesia de Niños
URL:https://elhacedorjuan316.org/event/servicio-evangelistico-e-iglesia-de-ninos-72/
LOCATION:Church\, 413 Fern St.\, Jupiter\, FL\, 33458\, United States
CATEGORIES:SERVICIO EVANGELÍSTICO IGLESIA DE NIÑOS,servicios del domingo
ATTACH;FMTTYPE=image/jpeg:https://elhacedorjuan316.org/wp-content/uploads/2022/12/qtq80-UVkzUM.jpeg
END:VEVENT
END:VCALENDAR