BEGIN:VCALENDAR
VERSION:2.0
PRODID:-//El Hacedor Juan 3:16 AG - ECPv6.15.20//NONSGML v1.0//EN
CALSCALE:GREGORIAN
METHOD:PUBLISH
X-WR-CALNAME:El Hacedor Juan 3:16 AG
X-ORIGINAL-URL:https://elhacedorjuan316.org
X-WR-CALDESC:Events for El Hacedor Juan 3:16 AG
REFRESH-INTERVAL;VALUE=DURATION:PT1H
X-Robots-Tag:noindex
X-PUBLISHED-TTL:PT1H
BEGIN:VTIMEZONE
TZID:UTC
BEGIN:STANDARD
TZOFFSETFROM:+0000
TZOFFSETTO:+0000
TZNAME:UTC
DTSTART:20250101T000000
END:STANDARD
END:VTIMEZONE
BEGIN:VEVENT
DTSTART;TZID=UTC:20260104T090000
DTEND;TZID=UTC:20260104T120000
DTSTAMP:20260422T012316
CREATED:20260101T195342Z
LAST-MODIFIED:20260101T195342Z
UID:3214-1767517200-1767528000@elhacedorjuan316.org
SUMMARY:SERVICIO EVANGELÍSTICO E IGLESIA DE NIÑOS
DESCRIPTION:SERVICIO EVANGELÍSTICO E IGLESIA DE NIÑOS\n\n9:00AM – Servicio Evangelístico e Iglesia de Niños\n\n\n10:45AM – Servicio Evangelístico e Iglesia de Niños
URL:https://elhacedorjuan316.org/event/servicio-evangelistico-e-iglesia-de-ninos-93/
LOCATION:Church\, 413 Fern St.\, Jupiter\, FL\, 33458\, United States
CATEGORIES:SERVICIO EVANGELÍSTICO IGLESIA DE NIÑOS,servicios del domingo
ATTACH;FMTTYPE=image/jpeg:https://elhacedorjuan316.org/wp-content/uploads/2022/12/qtq80-UVkzUM.jpeg
END:VEVENT
BEGIN:VEVENT
DTSTART;TZID=UTC:20260111T090000
DTEND;TZID=UTC:20260111T120000
DTSTAMP:20260422T012316
CREATED:20260101T195454Z
LAST-MODIFIED:20260101T195454Z
UID:3216-1768122000-1768132800@elhacedorjuan316.org
SUMMARY:SERVICIO EVANGELÍSTICO E IGLESIA DE NIÑOS
DESCRIPTION:SERVICIO EVANGELÍSTICO E IGLESIA DE NIÑOS\n\n9:00AM – Servicio Evangelístico e Iglesia de Niños\n\n\n10:45AM – Servicio Evangelístico e Iglesia de Niños
URL:https://elhacedorjuan316.org/event/servicio-evangelistico-e-iglesia-de-ninos-94/
LOCATION:Church\, 413 Fern St.\, Jupiter\, FL\, 33458\, United States
CATEGORIES:SERVICIO EVANGELÍSTICO IGLESIA DE NIÑOS,servicios del domingo
ATTACH;FMTTYPE=image/jpeg:https://elhacedorjuan316.org/wp-content/uploads/2022/12/qtq80-UVkzUM.jpeg
END:VEVENT
BEGIN:VEVENT
DTSTART;TZID=UTC:20260118T090000
DTEND;TZID=UTC:20260118T120000
DTSTAMP:20260422T012316
CREATED:20260101T195539Z
LAST-MODIFIED:20260101T195539Z
UID:3218-1768726800-1768737600@elhacedorjuan316.org
SUMMARY:SERVICIO EVANGELÍSTICO E IGLESIA DE NIÑOS
DESCRIPTION:SERVICIO EVANGELÍSTICO E IGLESIA DE NIÑOS\n\n9:00AM – Servicio Evangelístico e Iglesia de Niños\n\n\n10:45AM – Servicio Evangelístico e Iglesia de Niños
URL:https://elhacedorjuan316.org/event/servicio-evangelistico-e-iglesia-de-ninos-95/
LOCATION:Church\, 413 Fern St.\, Jupiter\, FL\, 33458\, United States
CATEGORIES:SERVICIO EVANGELÍSTICO IGLESIA DE NIÑOS,servicios del domingo
ATTACH;FMTTYPE=image/jpeg:https://elhacedorjuan316.org/wp-content/uploads/2022/12/qtq80-UVkzUM.jpeg
END:VEVENT
BEGIN:VEVENT
DTSTART;TZID=UTC:20260125T090000
DTEND;TZID=UTC:20260125T120000
DTSTAMP:20260422T012316
CREATED:20260101T195637Z
LAST-MODIFIED:20260101T195637Z
UID:3220-1769331600-1769342400@elhacedorjuan316.org
SUMMARY:SERVICIO EVANGELÍSTICO E IGLESIA DE NIÑOS
DESCRIPTION:SERVICIO EVANGELÍSTICO E IGLESIA DE NIÑOS\n\n9:00AM – Servicio Evangelístico e Iglesia de Niños\n\n\n10:45AM – Servicio Evangelístico e Iglesia de Niños
URL:https://elhacedorjuan316.org/event/servicio-evangelistico-e-iglesia-de-ninos-96/
LOCATION:Church\, 413 Fern St.\, Jupiter\, FL\, 33458\, United States
CATEGORIES:SERVICIO EVANGELÍSTICO IGLESIA DE NIÑOS,servicios del domingo
ATTACH;FMTTYPE=image/jpeg:https://elhacedorjuan316.org/wp-content/uploads/2022/12/qtq80-UVkzUM.jpeg
END:VEVENT
BEGIN:VEVENT
DTSTART;TZID=UTC:20260201T090000
DTEND;TZID=UTC:20260201T120000
DTSTAMP:20260422T012316
CREATED:20260204T035158Z
LAST-MODIFIED:20260204T035158Z
UID:3251-1769936400-1769947200@elhacedorjuan316.org
SUMMARY:SERVICIO EVANGELÍSTICO E IGLESIA DE NIÑOS
DESCRIPTION:SERVICIO EVANGELÍSTICO E IGLESIA DE NIÑOS\n\n9:00AM – Servicio Evangelístico e Iglesia de Niños\n\n\n10:45AM – Servicio Evangelístico e Iglesia de Niños
URL:https://elhacedorjuan316.org/event/servicio-evangelistico-e-iglesia-de-ninos-97/
LOCATION:Church\, 413 Fern St.\, Jupiter\, FL\, 33458\, United States
CATEGORIES:SERVICIO EVANGELÍSTICO IGLESIA DE NIÑOS,servicios del domingo
ATTACH;FMTTYPE=image/jpeg:https://elhacedorjuan316.org/wp-content/uploads/2022/12/qtq80-UVkzUM.jpeg
END:VEVENT
BEGIN:VEVENT
DTSTART;TZID=UTC:20260208T090000
DTEND;TZID=UTC:20260208T120000
DTSTAMP:20260422T012316
CREATED:20260204T035334Z
LAST-MODIFIED:20260204T035334Z
UID:3253-1770541200-1770552000@elhacedorjuan316.org
SUMMARY:SERVICIO ESPECIAL - INVITADO
DESCRIPTION:SERVICIO ESPECIAL – INVITADO \n\n9:00AM – Servicio Evangelístico e Iglesia de Niños\n\n\n10:45AM – Servicio Evangelístico e Iglesia de Niños
URL:https://elhacedorjuan316.org/event/servicio-especial-invitado/
LOCATION:Church\, 413 Fern St.\, Jupiter\, FL\, 33458\, United States
CATEGORIES:SERVICIO EVANGELÍSTICO IGLESIA DE NIÑOS,servicios del domingo
ATTACH;FMTTYPE=image/jpeg:https://elhacedorjuan316.org/wp-content/uploads/2022/12/qtq80-UVkzUM.jpeg
END:VEVENT
BEGIN:VEVENT
DTSTART;TZID=UTC:20260215T090000
DTEND;TZID=UTC:20260215T120000
DTSTAMP:20260422T012316
CREATED:20260204T035443Z
LAST-MODIFIED:20260204T035443Z
UID:3255-1771146000-1771156800@elhacedorjuan316.org
SUMMARY:SERVICIO EVANGELÍSTICO E IGLESIA DE NIÑOS
DESCRIPTION:SERVICIO EVANGELÍSTICO E IGLESIA DE NIÑOS\n\n9:00AM – Servicio Evangelístico e Iglesia de Niños\n\n\n10:45AM – Servicio Evangelístico e Iglesia de Niños
URL:https://elhacedorjuan316.org/event/servicio-evangelistico-e-iglesia-de-ninos-98/
LOCATION:Church\, 413 Fern St.\, Jupiter\, FL\, 33458\, United States
CATEGORIES:SERVICIO EVANGELÍSTICO IGLESIA DE NIÑOS,servicios del domingo
ATTACH;FMTTYPE=image/jpeg:https://elhacedorjuan316.org/wp-content/uploads/2022/12/qtq80-UVkzUM.jpeg
END:VEVENT
BEGIN:VEVENT
DTSTART;TZID=UTC:20260222T090000
DTEND;TZID=UTC:20260222T120000
DTSTAMP:20260422T012316
CREATED:20260204T035558Z
LAST-MODIFIED:20260204T035558Z
UID:3257-1771750800-1771761600@elhacedorjuan316.org
SUMMARY:SERVICIO EVANGELÍSTICO E IGLESIA DE NIÑOS
DESCRIPTION:SERVICIO EVANGELÍSTICO E IGLESIA DE NIÑOS\n\n9:00AM – Servicio Evangelístico e Iglesia de Niños\n\n\n10:45AM – Servicio Evangelístico e Iglesia de Niños
URL:https://elhacedorjuan316.org/event/servicio-evangelistico-e-iglesia-de-ninos-99/
LOCATION:Church\, 413 Fern St.\, Jupiter\, FL\, 33458\, United States
CATEGORIES:SERVICIO EVANGELÍSTICO IGLESIA DE NIÑOS,servicios del domingo
ATTACH;FMTTYPE=image/jpeg:https://elhacedorjuan316.org/wp-content/uploads/2022/12/qtq80-UVkzUM.jpeg
END:VEVENT
BEGIN:VEVENT
DTSTART;TZID=UTC:20260301T090000
DTEND;TZID=UTC:20260301T120000
DTSTAMP:20260422T012317
CREATED:20260305T202036Z
LAST-MODIFIED:20260305T202036Z
UID:3288-1772355600-1772366400@elhacedorjuan316.org
SUMMARY:SERVICIO EVANGELÍSTICO E IGLESIA DE NIÑOS
DESCRIPTION:SERVICIO EVANGELÍSTICO E IGLESIA DE NIÑOS\n\n9:00AM – Servicio Evangelístico e Iglesia de Niños\n\n\n10:45AM – Servicio Evangelístico e Iglesia de Niños
URL:https://elhacedorjuan316.org/event/servicio-evangelistico-e-iglesia-de-ninos-100/
LOCATION:Church\, 413 Fern St.\, Jupiter\, FL\, 33458\, United States
CATEGORIES:SERVICIO EVANGELÍSTICO IGLESIA DE NIÑOS,servicios del domingo
ATTACH;FMTTYPE=image/jpeg:https://elhacedorjuan316.org/wp-content/uploads/2022/12/qtq80-UVkzUM.jpeg
END:VEVENT
BEGIN:VEVENT
DTSTART;TZID=UTC:20260308T090000
DTEND;TZID=UTC:20260308T120000
DTSTAMP:20260422T012317
CREATED:20260305T202233Z
LAST-MODIFIED:20260305T202233Z
UID:3290-1772960400-1772971200@elhacedorjuan316.org
SUMMARY:SERVICIO EVANGELÍSTICO E IGLESIA DE NIÑOS
DESCRIPTION:SERVICIO EVANGELÍSTICO E IGLESIA DE NIÑOS\n\n9:00AM – Servicio Evangelístico e Iglesia de Niños\n\n\n10:45AM – Servicio Evangelístico e Iglesia de Niños
URL:https://elhacedorjuan316.org/event/servicio-evangelistico-e-iglesia-de-ninos-101/
LOCATION:Church\, 413 Fern St.\, Jupiter\, FL\, 33458\, United States
CATEGORIES:SERVICIO EVANGELÍSTICO IGLESIA DE NIÑOS,servicios del domingo
ATTACH;FMTTYPE=image/jpeg:https://elhacedorjuan316.org/wp-content/uploads/2022/12/qtq80-UVkzUM.jpeg
END:VEVENT
BEGIN:VEVENT
DTSTART;TZID=UTC:20260315T090000
DTEND;TZID=UTC:20260315T120000
DTSTAMP:20260422T012317
CREATED:20260305T202339Z
LAST-MODIFIED:20260305T202339Z
UID:3293-1773565200-1773576000@elhacedorjuan316.org
SUMMARY:SERVICIO EVANGELÍSTICO E IGLESIA DE NIÑOS
DESCRIPTION:SERVICIO EVANGELÍSTICO E IGLESIA DE NIÑOS\n\n9:00AM – Servicio Evangelístico e Iglesia de Niños\n\n\n10:45AM – Servicio Evangelístico e Iglesia de Niños
URL:https://elhacedorjuan316.org/event/servicio-evangelistico-e-iglesia-de-ninos-102/
LOCATION:Church\, 413 Fern St.\, Jupiter\, FL\, 33458\, United States
CATEGORIES:SERVICIO EVANGELÍSTICO IGLESIA DE NIÑOS,servicios del domingo
ATTACH;FMTTYPE=image/jpeg:https://elhacedorjuan316.org/wp-content/uploads/2022/12/qtq80-UVkzUM.jpeg
END:VEVENT
BEGIN:VEVENT
DTSTART;TZID=UTC:20260322T090000
DTEND;TZID=UTC:20260322T120000
DTSTAMP:20260422T012317
CREATED:20260305T202453Z
LAST-MODIFIED:20260305T202453Z
UID:3295-1774170000-1774180800@elhacedorjuan316.org
SUMMARY:SERVICIO EVANGELÍSTICO E IGLESIA DE NIÑOS
DESCRIPTION:SERVICIO EVANGELÍSTICO E IGLESIA DE NIÑOS\n\n9:00AM – Servicio Evangelístico e Iglesia de Niños\n\n\n10:45AM – Servicio Evangelístico e Iglesia de Niños
URL:https://elhacedorjuan316.org/event/servicio-evangelistico-e-iglesia-de-ninos-103/
LOCATION:Church\, 413 Fern St.\, Jupiter\, FL\, 33458\, United States
CATEGORIES:SERVICIO EVANGELÍSTICO IGLESIA DE NIÑOS,servicios del domingo
ATTACH;FMTTYPE=image/jpeg:https://elhacedorjuan316.org/wp-content/uploads/2022/12/qtq80-UVkzUM.jpeg
END:VEVENT
BEGIN:VEVENT
DTSTART;TZID=UTC:20260329T090000
DTEND;TZID=UTC:20260329T120000
DTSTAMP:20260422T012317
CREATED:20260305T202819Z
LAST-MODIFIED:20260305T202819Z
UID:3297-1774774800-1774785600@elhacedorjuan316.org
SUMMARY:DOMINGO DE RAMOS
DESCRIPTION:SERVICIO EVANGELÍSTICO E IGLESIA DE NIÑOS\n\n9:00AM – Servicio Evangelístico e Iglesia de Niños\n\n\n10:45AM – Servicio Evangelístico e Iglesia de Niños
URL:https://elhacedorjuan316.org/event/domingo-de-ramos-3/
LOCATION:Church\, 413 Fern St.\, Jupiter\, FL\, 33458\, United States
CATEGORIES:SERVICIO EVANGELÍSTICO IGLESIA DE NIÑOS,servicios del domingo
ATTACH;FMTTYPE=image/webp:https://elhacedorjuan316.org/wp-content/uploads/2025/04/iStock-155386151.webp
END:VEVENT
BEGIN:VEVENT
DTSTART;TZID=UTC:20260405T090000
DTEND;TZID=UTC:20260405T120000
DTSTAMP:20260422T012317
CREATED:20260405T184007Z
LAST-MODIFIED:20260405T184007Z
UID:3330-1775379600-1775390400@elhacedorjuan316.org
SUMMARY:DOMINGO  RESURRECCIÓN
DESCRIPTION:SERVICIO EVANGELÍSTICO E IGLESIA DE NIÑOS\n\n9:00AM – Servicio Evangelístico e Iglesia de Niños\n\n\n10:45AM – Servicio Evangelístico e Iglesia de Niños
URL:https://elhacedorjuan316.org/event/domingo-resurreccion-2/
LOCATION:Church\, 413 Fern St.\, Jupiter\, FL\, 33458\, United States
CATEGORIES:SERVICIO EVANGELÍSTICO IGLESIA DE NIÑOS,servicios del domingo
ATTACH;FMTTYPE=image/jpeg:https://elhacedorjuan316.org/wp-content/uploads/2022/12/qtq80-UVkzUM.jpeg
END:VEVENT
BEGIN:VEVENT
DTSTART;TZID=UTC:20260412T090000
DTEND;TZID=UTC:20260412T120000
DTSTAMP:20260422T012317
CREATED:20260405T184145Z
LAST-MODIFIED:20260405T184145Z
UID:3332-1775984400-1775995200@elhacedorjuan316.org
SUMMARY:SERVICIO EVANGELÍSTICO E IGLESIA DE NIÑOS
DESCRIPTION:SERVICIO EVANGELÍSTICO E IGLESIA DE NIÑOS\n\n9:00AM – Servicio Evangelístico e Iglesia de Niños\n\n\n10:45AM – Servicio Evangelístico e Iglesia de Niños
URL:https://elhacedorjuan316.org/event/servicio-evangelistico-e-iglesia-de-ninos-104/
LOCATION:Church\, 413 Fern St.\, Jupiter\, FL\, 33458\, United States
CATEGORIES:SERVICIO EVANGELÍSTICO IGLESIA DE NIÑOS,servicios del domingo
ATTACH;FMTTYPE=image/jpeg:https://elhacedorjuan316.org/wp-content/uploads/2022/12/qtq80-UVkzUM.jpeg
END:VEVENT
BEGIN:VEVENT
DTSTART;TZID=UTC:20260419T090000
DTEND;TZID=UTC:20260419T120000
DTSTAMP:20260422T012317
CREATED:20260405T184330Z
LAST-MODIFIED:20260405T184330Z
UID:3334-1776589200-1776600000@elhacedorjuan316.org
SUMMARY:SERVICIO EVANGELÍSTICO E IGLESIA DE NIÑOS
DESCRIPTION:SERVICIO EVANGELÍSTICO E IGLESIA DE NIÑOS\n\n9:00AM – Servicio Evangelístico e Iglesia de Niños\n\n\n10:45AM – Servicio Evangelístico e Iglesia de Niños
URL:https://elhacedorjuan316.org/event/servicio-evangelistico-e-iglesia-de-ninos-105/
LOCATION:Church\, 413 Fern St.\, Jupiter\, FL\, 33458\, United States
CATEGORIES:SERVICIO EVANGELÍSTICO IGLESIA DE NIÑOS,servicios del domingo
ATTACH;FMTTYPE=image/jpeg:https://elhacedorjuan316.org/wp-content/uploads/2022/12/qtq80-UVkzUM.jpeg
END:VEVENT
BEGIN:VEVENT
DTSTART;TZID=UTC:20260426T090000
DTEND;TZID=UTC:20260426T120000
DTSTAMP:20260422T012317
CREATED:20260405T184432Z
LAST-MODIFIED:20260405T184432Z
UID:3337-1777194000-1777204800@elhacedorjuan316.org
SUMMARY:SERVICIO EVANGELÍSTICO E IGLESIA DE NIÑOS
DESCRIPTION:SERVICIO EVANGELÍSTICO E IGLESIA DE NIÑOS\n\n9:00AM – Servicio Evangelístico e Iglesia de Niños\n\n\n10:45AM – Servicio Evangelístico e Iglesia de Niños
URL:https://elhacedorjuan316.org/event/servicio-evangelistico-e-iglesia-de-ninos-106/
LOCATION:Church\, 413 Fern St.\, Jupiter\, FL\, 33458\, United States
CATEGORIES:SERVICIO EVANGELÍSTICO IGLESIA DE NIÑOS,servicios del domingo
ATTACH;FMTTYPE=image/jpeg:https://elhacedorjuan316.org/wp-content/uploads/2022/12/qtq80-UVkzUM.jpeg
END:VEVENT
END:VCALENDAR