BEGIN:VCALENDAR
VERSION:2.0
PRODID:-//El Hacedor Juan 3:16 AG - ECPv6.15.20//NONSGML v1.0//EN
CALSCALE:GREGORIAN
METHOD:PUBLISH
X-WR-CALNAME:El Hacedor Juan 3:16 AG
X-ORIGINAL-URL:https://elhacedorjuan316.org
X-WR-CALDESC:Events for El Hacedor Juan 3:16 AG
REFRESH-INTERVAL;VALUE=DURATION:PT1H
X-Robots-Tag:noindex
X-PUBLISHED-TTL:PT1H
BEGIN:VTIMEZONE
TZID:UTC
BEGIN:STANDARD
TZOFFSETFROM:+0000
TZOFFSETTO:+0000
TZNAME:UTC
DTSTART:20220101T000000
END:STANDARD
END:VTIMEZONE
BEGIN:VEVENT
DTSTART;TZID=UTC:20230416T090000
DTEND;TZID=UTC:20230416T223000
DTSTAMP:20260423T150244
CREATED:20230411T201020Z
LAST-MODIFIED:20230411T202838Z
UID:1905-1681635600-1681684200@elhacedorjuan316.org
SUMMARY:SERVICIO EVANGELÍSTICO IGLESIA DE NIÑOS
DESCRIPTION:SERVICIO EVANGELÍSTICO IGLESIA DE NIÑOS\n\nD: Ángela Nava\nGrupo Tercer Domingo\n\nU: Equipo 3
URL:https://elhacedorjuan316.org/event/1905/
LOCATION:Church\, 413 Fern St.\, Jupiter\, FL\, 33458\, United States
CATEGORIES:SERVICIO EVANGELÍSTICO IGLESIA DE NIÑOS,servicios del domingo
ATTACH;FMTTYPE=image/jpeg:https://elhacedorjuan316.org/wp-content/uploads/2021/12/3.jpg
END:VEVENT
BEGIN:VEVENT
DTSTART;TZID=UTC:20230416T144500
DTEND;TZID=UTC:20230416T160000
DTSTAMP:20260423T150244
CREATED:20230411T201505Z
LAST-MODIFIED:20230411T202838Z
UID:1908-1681656300-1681660800@elhacedorjuan316.org
SUMMARY:SERVICIO EVANGELÍSTICO IGLESIA DE NIÑOS
DESCRIPTION:SERVICIO EVANGELÍSTICO IGLESIA DE NIÑOS\n\nD: Ángela Nava\nGrupo Tercer Domingo\n\nU: Equipo 3
URL:https://elhacedorjuan316.org/event/1908/
LOCATION:Church\, 413 Fern St.\, Jupiter\, FL\, 33458\, United States
CATEGORIES:SERVICIO EVANGELÍSTICO IGLESIA DE NIÑOS,servicios del domingo
ATTACH;FMTTYPE=image/jpeg:https://elhacedorjuan316.org/wp-content/uploads/2021/12/11.jpg
END:VEVENT
END:VCALENDAR