BEGIN:VCALENDAR
VERSION:2.0
PRODID:-//El Hacedor Juan 3:16 AG - ECPv6.15.20//NONSGML v1.0//EN
CALSCALE:GREGORIAN
METHOD:PUBLISH
X-WR-CALNAME:El Hacedor Juan 3:16 AG
X-ORIGINAL-URL:https://elhacedorjuan316.org
X-WR-CALDESC:Events for El Hacedor Juan 3:16 AG
REFRESH-INTERVAL;VALUE=DURATION:PT1H
X-Robots-Tag:noindex
X-PUBLISHED-TTL:PT1H
BEGIN:VTIMEZONE
TZID:UTC
BEGIN:STANDARD
TZOFFSETFROM:+0000
TZOFFSETTO:+0000
TZNAME:UTC
DTSTART:20240101T000000
END:STANDARD
END:VTIMEZONE
BEGIN:VEVENT
DTSTART;TZID=UTC:20251207T090000
DTEND;TZID=UTC:20251207T120000
DTSTAMP:20260421T134820
CREATED:20251202T025356Z
LAST-MODIFIED:20251202T025356Z
UID:3181-1765098000-1765108800@elhacedorjuan316.org
SUMMARY:SERVICIO EVANGELÍSTICO E IGLESIA DE NIÑOS
DESCRIPTION:SERVICIO EVANGELÍSTICO E IGLESIA DE NIÑOS\n\n9:00AM – Servicio Evangelístico e Iglesia de Niños\n\n\n10:45AM – Servicio Evangelístico e Iglesia de Niños
URL:https://elhacedorjuan316.org/event/servicio-evangelistico-e-iglesia-de-ninos-89/
LOCATION:Church\, 413 Fern St.\, Jupiter\, FL\, 33458\, United States
CATEGORIES:SERVICIO EVANGELÍSTICO IGLESIA DE NIÑOS,servicios del domingo
ATTACH;FMTTYPE=image/jpeg:https://elhacedorjuan316.org/wp-content/uploads/2022/12/qtq80-UVkzUM.jpeg
END:VEVENT
BEGIN:VEVENT
DTSTART;TZID=UTC:20251214T090000
DTEND;TZID=UTC:20251214T120000
DTSTAMP:20260421T134820
CREATED:20251202T025458Z
LAST-MODIFIED:20251202T025458Z
UID:3183-1765702800-1765713600@elhacedorjuan316.org
SUMMARY:SERVICIO EVANGELÍSTICO E IGLESIA DE NIÑOS
DESCRIPTION:SERVICIO EVANGELÍSTICO E IGLESIA DE NIÑOS\n\n9:00AM – Servicio Evangelístico e Iglesia de Niños\n\n\n10:45AM – Servicio Evangelístico e Iglesia de Niños
URL:https://elhacedorjuan316.org/event/servicio-evangelistico-e-iglesia-de-ninos-90/
LOCATION:Church\, 413 Fern St.\, Jupiter\, FL\, 33458\, United States
CATEGORIES:SERVICIO EVANGELÍSTICO IGLESIA DE NIÑOS,servicios del domingo
ATTACH;FMTTYPE=image/jpeg:https://elhacedorjuan316.org/wp-content/uploads/2022/12/qtq80-UVkzUM.jpeg
END:VEVENT
BEGIN:VEVENT
DTSTART;TZID=UTC:20251221T090000
DTEND;TZID=UTC:20251221T120000
DTSTAMP:20260421T134820
CREATED:20251202T025612Z
LAST-MODIFIED:20251202T025612Z
UID:3185-1766307600-1766318400@elhacedorjuan316.org
SUMMARY:SERVICIO EVANGELÍSTICO E IGLESIA DE NIÑOS
DESCRIPTION:SERVICIO EVANGELÍSTICO E IGLESIA DE NIÑOS\n\n9:00AM – Servicio Evangelístico e Iglesia de Niños\n\n\n10:45AM – Servicio Evangelístico e Iglesia de Niños
URL:https://elhacedorjuan316.org/event/servicio-evangelistico-e-iglesia-de-ninos-91/
LOCATION:Church\, 413 Fern St.\, Jupiter\, FL\, 33458\, United States
CATEGORIES:SERVICIO EVANGELÍSTICO IGLESIA DE NIÑOS,servicios del domingo
ATTACH;FMTTYPE=image/jpeg:https://elhacedorjuan316.org/wp-content/uploads/2022/12/qtq80-UVkzUM.jpeg
END:VEVENT
BEGIN:VEVENT
DTSTART;TZID=UTC:20251228T090000
DTEND;TZID=UTC:20251228T120000
DTSTAMP:20260421T134820
CREATED:20251202T025721Z
LAST-MODIFIED:20251202T025721Z
UID:3187-1766912400-1766923200@elhacedorjuan316.org
SUMMARY:SERVICIO EVANGELÍSTICO E IGLESIA DE NIÑOS
DESCRIPTION:SERVICIO EVANGELÍSTICO E IGLESIA DE NIÑOS\n\n9:00AM – Servicio Evangelístico e Iglesia de Niños\n\n\n10:45AM – Servicio Evangelístico e Iglesia de Niños
URL:https://elhacedorjuan316.org/event/servicio-evangelistico-e-iglesia-de-ninos-92/
LOCATION:Church\, 413 Fern St.\, Jupiter\, FL\, 33458\, United States
CATEGORIES:SERVICIO EVANGELÍSTICO IGLESIA DE NIÑOS,servicios del domingo
ATTACH;FMTTYPE=image/jpeg:https://elhacedorjuan316.org/wp-content/uploads/2022/12/qtq80-UVkzUM.jpeg
END:VEVENT
END:VCALENDAR