BEGIN:VCALENDAR
VERSION:2.0
PRODID:-//El Hacedor Juan 3:16 AG - ECPv6.15.20//NONSGML v1.0//EN
CALSCALE:GREGORIAN
METHOD:PUBLISH
X-WR-CALNAME:El Hacedor Juan 3:16 AG
X-ORIGINAL-URL:https://elhacedorjuan316.org
X-WR-CALDESC:Events for El Hacedor Juan 3:16 AG
REFRESH-INTERVAL;VALUE=DURATION:PT1H
X-Robots-Tag:noindex
X-PUBLISHED-TTL:PT1H
BEGIN:VTIMEZONE
TZID:UTC
BEGIN:STANDARD
TZOFFSETFROM:+0000
TZOFFSETTO:+0000
TZNAME:UTC
DTSTART:20240101T000000
END:STANDARD
END:VTIMEZONE
BEGIN:VEVENT
DTSTART;TZID=UTC:20250803T090000
DTEND;TZID=UTC:20250803T120000
DTSTAMP:20260421T184640
CREATED:20250731T204804Z
LAST-MODIFIED:20250731T204804Z
UID:3004-1754211600-1754222400@elhacedorjuan316.org
SUMMARY:SERVICIO EVANGELÍSTICO E IGLESIA DE NIÑOS
DESCRIPTION:SERVICIO EVANGELÍSTICO E IGLESIA DE NIÑOS\n\n9:00AM – Servicio Evangelístico e Iglesia de Niños\n\n\n10:45AM – Servicio Evangelístico e Iglesia de Niños
URL:https://elhacedorjuan316.org/event/servicio-evangelistico-e-iglesia-de-ninos-76/
LOCATION:Church\, 413 Fern St.\, Jupiter\, FL\, 33458\, United States
CATEGORIES:SERVICIO EVANGELÍSTICO IGLESIA DE NIÑOS,servicios del domingo
ATTACH;FMTTYPE=image/jpeg:https://elhacedorjuan316.org/wp-content/uploads/2022/12/qtq80-UVkzUM.jpeg
END:VEVENT
BEGIN:VEVENT
DTSTART;TZID=UTC:20250810T090000
DTEND;TZID=UTC:20250810T120000
DTSTAMP:20260421T184640
CREATED:20250801T134747Z
LAST-MODIFIED:20250801T134747Z
UID:3009-1754816400-1754827200@elhacedorjuan316.org
SUMMARY:SERVICIO MISIONERO
DESCRIPTION:SERVICIO EVANGELÍSTICO E IGLESIA DE NIÑOS\n\n9:00AM – Servicio Evangelístico e Iglesia de Niños\n\n\n10:45AM – Servicio Evangelístico e Iglesia de Niños
URL:https://elhacedorjuan316.org/event/servicio-misionero-2/
LOCATION:Church\, 413 Fern St.\, Jupiter\, FL\, 33458\, United States
CATEGORIES:SERVICIO EVANGELÍSTICO IGLESIA DE NIÑOS,servicios del domingo
ATTACH;FMTTYPE=image/jpeg:https://elhacedorjuan316.org/wp-content/uploads/2022/12/qtq80-UVkzUM.jpeg
END:VEVENT
BEGIN:VEVENT
DTSTART;TZID=UTC:20250817T090000
DTEND;TZID=UTC:20250817T120000
DTSTAMP:20260421T184640
CREATED:20250801T134903Z
LAST-MODIFIED:20250801T134903Z
UID:3011-1755421200-1755432000@elhacedorjuan316.org
SUMMARY:SERVICIO EVANGELÍSTICO E IGLESIA DE NIÑOS
DESCRIPTION:SERVICIO EVANGELÍSTICO E IGLESIA DE NIÑOS\n\n9:00AM – Servicio Evangelístico e Iglesia de Niños\n\n\n10:45AM – Servicio Evangelístico e Iglesia de Niños
URL:https://elhacedorjuan316.org/event/servicio-evangelistico-e-iglesia-de-ninos-77/
LOCATION:Church\, 413 Fern St.\, Jupiter\, FL\, 33458\, United States
CATEGORIES:SERVICIO EVANGELÍSTICO IGLESIA DE NIÑOS,servicios del domingo
ATTACH;FMTTYPE=image/jpeg:https://elhacedorjuan316.org/wp-content/uploads/2022/12/qtq80-UVkzUM.jpeg
END:VEVENT
BEGIN:VEVENT
DTSTART;TZID=UTC:20250824T090000
DTEND;TZID=UTC:20250824T120000
DTSTAMP:20260421T184640
CREATED:20250801T135013Z
LAST-MODIFIED:20250801T135013Z
UID:3013-1756026000-1756036800@elhacedorjuan316.org
SUMMARY:SERVICIO EVANGELÍSTICO E IGLESIA DE NIÑOS
DESCRIPTION:SERVICIO EVANGELÍSTICO E IGLESIA DE NIÑOS\n\n9:00AM – Servicio Evangelístico e Iglesia de Niños\n\n\n10:45AM – Servicio Evangelístico e Iglesia de Niños
URL:https://elhacedorjuan316.org/event/servicio-evangelistico-e-iglesia-de-ninos-78/
LOCATION:Church\, 413 Fern St.\, Jupiter\, FL\, 33458\, United States
CATEGORIES:SERVICIO EVANGELÍSTICO IGLESIA DE NIÑOS,servicios del domingo
ATTACH;FMTTYPE=image/jpeg:https://elhacedorjuan316.org/wp-content/uploads/2022/12/qtq80-UVkzUM.jpeg
END:VEVENT
BEGIN:VEVENT
DTSTART;TZID=UTC:20250831T090000
DTEND;TZID=UTC:20250831T120000
DTSTAMP:20260421T184640
CREATED:20250801T135147Z
LAST-MODIFIED:20250801T135147Z
UID:3015-1756630800-1756641600@elhacedorjuan316.org
SUMMARY:SERVICIO EVANGELÍSTICO E IGLESIA DE NIÑOS
DESCRIPTION:SERVICIO EVANGELÍSTICO E IGLESIA DE NIÑOS\n\n9:00AM – Servicio Evangelístico e Iglesia de Niños\n\n\n10:45AM – Servicio Evangelístico e Iglesia de Niños
URL:https://elhacedorjuan316.org/event/servicio-evangelistico-e-iglesia-de-ninos-79/
LOCATION:Church\, 413 Fern St.\, Jupiter\, FL\, 33458\, United States
CATEGORIES:SERVICIO EVANGELÍSTICO IGLESIA DE NIÑOS,servicios del domingo
ATTACH;FMTTYPE=image/jpeg:https://elhacedorjuan316.org/wp-content/uploads/2022/12/qtq80-UVkzUM.jpeg
END:VEVENT
END:VCALENDAR