BEGIN:VCALENDAR
VERSION:2.0
PRODID:-//El Hacedor Juan 3:16 AG - ECPv6.15.20//NONSGML v1.0//EN
CALSCALE:GREGORIAN
METHOD:PUBLISH
X-ORIGINAL-URL:https://elhacedorjuan316.org
X-WR-CALDESC:Events for El Hacedor Juan 3:16 AG
REFRESH-INTERVAL;VALUE=DURATION:PT1H
X-Robots-Tag:noindex
X-PUBLISHED-TTL:PT1H
BEGIN:VTIMEZONE
TZID:UTC
BEGIN:STANDARD
TZOFFSETFROM:+0000
TZOFFSETTO:+0000
TZNAME:UTC
DTSTART:20230101T000000
END:STANDARD
END:VTIMEZONE
BEGIN:VEVENT
DTSTART;TZID=UTC:20240808T190000
DTEND;TZID=UTC:20240808T203000
DTSTAMP:20260420T011943
CREATED:20240812T023730Z
LAST-MODIFIED:20240812T023730Z
UID:2458-1723143600-1723149000@elhacedorjuan316.org
SUMMARY:NOCHE FAMILIAR
DESCRIPTION:NOCHE FAMILIAR\n7:00 PM \n\nEstudio Bíblico\nRoyal Rangers\nMisioneritas
URL:https://elhacedorjuan316.org/event/noche-familiar-48/
LOCATION:Church\, 413 Fern St.\, Jupiter\, FL\, 33458\, United States
CATEGORIES:NOCHE FAMILIAR,Servicios del jueves
ATTACH;FMTTYPE=image/jpeg:https://elhacedorjuan316.org/wp-content/uploads/2022/12/qtq80-UVkzUM.jpeg
END:VEVENT
BEGIN:VEVENT
DTSTART;TZID=UTC:20240801T190000
DTEND;TZID=UTC:20240801T203000
DTSTAMP:20260420T011943
CREATED:20240812T023619Z
LAST-MODIFIED:20240812T023619Z
UID:2455-1722538800-1722544200@elhacedorjuan316.org
SUMMARY:NOCHE FAMILIAR
DESCRIPTION:NOCHE FAMILIAR\n7:00 PM \n\nEstudio Bíblico\nRoyal Rangers\nMisioneritas
URL:https://elhacedorjuan316.org/event/noche-familiar-47/
LOCATION:Church\, 413 Fern St.\, Jupiter\, FL\, 33458\, United States
CATEGORIES:NOCHE FAMILIAR,Servicios del jueves
ATTACH;FMTTYPE=image/jpeg:https://elhacedorjuan316.org/wp-content/uploads/2022/12/qtq80-UVkzUM.jpeg
END:VEVENT
BEGIN:VEVENT
DTSTART;TZID=UTC:20240725T190000
DTEND;TZID=UTC:20240725T203000
DTSTAMP:20260420T011943
CREATED:20240706T165143Z
LAST-MODIFIED:20240706T165143Z
UID:2436-1721934000-1721939400@elhacedorjuan316.org
SUMMARY:NOCHE FAMILIAR
DESCRIPTION:NOCHE FAMILIAR\n7:00 PM \n\nEstudio Bíblico\nRoyal Rangers\nMisioneritas
URL:https://elhacedorjuan316.org/event/noche-familiar-46/
LOCATION:Church\, 413 Fern St.\, Jupiter\, FL\, 33458\, United States
CATEGORIES:NOCHE FAMILIAR,Servicios del jueves
ATTACH;FMTTYPE=image/jpeg:https://elhacedorjuan316.org/wp-content/uploads/2022/12/qtq80-UVkzUM.jpeg
END:VEVENT
BEGIN:VEVENT
DTSTART;TZID=UTC:20240718T190000
DTEND;TZID=UTC:20240718T203000
DTSTAMP:20260420T011943
CREATED:20240706T165033Z
LAST-MODIFIED:20240706T165033Z
UID:2434-1721329200-1721334600@elhacedorjuan316.org
SUMMARY:NOCHE FAMILIAR
DESCRIPTION:NOCHE FAMILIAR\n7:00 PM \n\nEstudio Bíblico\nRoyal Rangers\nMisioneritas
URL:https://elhacedorjuan316.org/event/noche-familiar-45/
LOCATION:Church\, 413 Fern St.\, Jupiter\, FL\, 33458\, United States
CATEGORIES:NOCHE FAMILIAR,Servicios del jueves
ATTACH;FMTTYPE=image/jpeg:https://elhacedorjuan316.org/wp-content/uploads/2022/12/qtq80-UVkzUM.jpeg
END:VEVENT
BEGIN:VEVENT
DTSTART;TZID=UTC:20240711T190000
DTEND;TZID=UTC:20240711T203000
DTSTAMP:20260420T011943
CREATED:20240706T164911Z
LAST-MODIFIED:20240706T164911Z
UID:2432-1720724400-1720729800@elhacedorjuan316.org
SUMMARY:NOCHE FAMILIAR
DESCRIPTION:NOCHE FAMILIAR\n7:00 PM \n\nEstudio Bíblico\nRoyal Rangers\nMisioneritas
URL:https://elhacedorjuan316.org/event/noche-familiar-44/
LOCATION:Church\, 413 Fern St.\, Jupiter\, FL\, 33458\, United States
CATEGORIES:NOCHE FAMILIAR,Servicios del jueves
ATTACH;FMTTYPE=image/jpeg:https://elhacedorjuan316.org/wp-content/uploads/2022/12/qtq80-UVkzUM.jpeg
END:VEVENT
BEGIN:VEVENT
DTSTART;TZID=UTC:20240704T190000
DTEND;TZID=UTC:20240704T203000
DTSTAMP:20260420T011943
CREATED:20240706T164757Z
LAST-MODIFIED:20240706T164757Z
UID:2430-1720119600-1720125000@elhacedorjuan316.org
SUMMARY:NOCHE FAMILIAR
DESCRIPTION:NOCHE FAMILIAR\n7:00 PM \n\nEstudio Bíblico\nRoyal Rangers\nMisioneritas
URL:https://elhacedorjuan316.org/event/noche-familiar-43/
LOCATION:Church\, 413 Fern St.\, Jupiter\, FL\, 33458\, United States
CATEGORIES:NOCHE FAMILIAR,Servicios del jueves
ATTACH;FMTTYPE=image/jpeg:https://elhacedorjuan316.org/wp-content/uploads/2022/12/qtq80-UVkzUM.jpeg
END:VEVENT
BEGIN:VEVENT
DTSTART;TZID=UTC:20240627T190000
DTEND;TZID=UTC:20240627T203000
DTSTAMP:20260420T011943
CREATED:20240602T234330Z
LAST-MODIFIED:20240602T234330Z
UID:2410-1719514800-1719520200@elhacedorjuan316.org
SUMMARY:NOCHE FAMILIAR
DESCRIPTION:NOCHE FAMILIAR\n7:00 PM \n\nEstudio Bíblico\nRoyal Rangers\nMisioneritas
URL:https://elhacedorjuan316.org/event/noche-familiar-42/
LOCATION:Church\, 413 Fern St.\, Jupiter\, FL\, 33458\, United States
CATEGORIES:NOCHE FAMILIAR,Servicios del jueves
ATTACH;FMTTYPE=image/jpeg:https://elhacedorjuan316.org/wp-content/uploads/2022/12/qtq80-UVkzUM.jpeg
END:VEVENT
BEGIN:VEVENT
DTSTART;TZID=UTC:20240620T190000
DTEND;TZID=UTC:20240620T203000
DTSTAMP:20260420T011943
CREATED:20240602T234208Z
LAST-MODIFIED:20240602T234208Z
UID:2408-1718910000-1718915400@elhacedorjuan316.org
SUMMARY:NOCHE FAMILIAR
DESCRIPTION:NOCHE FAMILIAR\n7:00 PM \n\nEstudio Bíblico\nRoyal Rangers\nMisioneritas
URL:https://elhacedorjuan316.org/event/noche-familiar-41/
LOCATION:Church\, 413 Fern St.\, Jupiter\, FL\, 33458\, United States
CATEGORIES:NOCHE FAMILIAR,Servicios del jueves
ATTACH;FMTTYPE=image/jpeg:https://elhacedorjuan316.org/wp-content/uploads/2022/12/qtq80-UVkzUM.jpeg
END:VEVENT
BEGIN:VEVENT
DTSTART;TZID=UTC:20240613T190000
DTEND;TZID=UTC:20240613T203000
DTSTAMP:20260420T011943
CREATED:20240602T234057Z
LAST-MODIFIED:20240602T234057Z
UID:2406-1718305200-1718310600@elhacedorjuan316.org
SUMMARY:NOCHE FAMILIAR
DESCRIPTION:NOCHE FAMILIAR\n7:00 PM \n\nEstudio Bíblico\nRoyal Rangers\nMisioneritas
URL:https://elhacedorjuan316.org/event/noche-familiar-40/
LOCATION:Church\, 413 Fern St.\, Jupiter\, FL\, 33458\, United States
CATEGORIES:NOCHE FAMILIAR,Servicios del jueves
ATTACH;FMTTYPE=image/jpeg:https://elhacedorjuan316.org/wp-content/uploads/2022/12/qtq80-UVkzUM.jpeg
END:VEVENT
BEGIN:VEVENT
DTSTART;TZID=UTC:20240606T190000
DTEND;TZID=UTC:20240606T203000
DTSTAMP:20260420T011943
CREATED:20240602T234003Z
LAST-MODIFIED:20240602T234003Z
UID:2404-1717700400-1717705800@elhacedorjuan316.org
SUMMARY:NOCHE FAMILIAR
DESCRIPTION:NOCHE FAMILIAR\n7:00 PM \n\nEstudio Bíblico\nRoyal Rangers\nMisioneritas
URL:https://elhacedorjuan316.org/event/noche-familiar-39/
LOCATION:Church\, 413 Fern St.\, Jupiter\, FL\, 33458\, United States
CATEGORIES:NOCHE FAMILIAR,Servicios del jueves
ATTACH;FMTTYPE=image/jpeg:https://elhacedorjuan316.org/wp-content/uploads/2022/12/qtq80-UVkzUM.jpeg
END:VEVENT
BEGIN:VEVENT
DTSTART;TZID=UTC:20240530T190000
DTEND;TZID=UTC:20240530T203000
DTSTAMP:20260420T011943
CREATED:20240516T162224Z
LAST-MODIFIED:20240516T162224Z
UID:2360-1717095600-1717101000@elhacedorjuan316.org
SUMMARY:NOCHE FAMILIAR
DESCRIPTION:NOCHE FAMILIAR\n7:00 PM \n\nEstudio Bíblico\nRoyal Rangers\nMisioneritas
URL:https://elhacedorjuan316.org/event/noche-familiar-38/
LOCATION:Church\, 413 Fern St.\, Jupiter\, FL\, 33458\, United States
CATEGORIES:NOCHE FAMILIAR,Servicios del jueves
ATTACH;FMTTYPE=image/jpeg:https://elhacedorjuan316.org/wp-content/uploads/2022/12/qtq80-UVkzUM.jpeg
END:VEVENT
BEGIN:VEVENT
DTSTART;TZID=UTC:20240523T190000
DTEND;TZID=UTC:20240523T203000
DTSTAMP:20260420T011943
CREATED:20240516T162058Z
LAST-MODIFIED:20240516T162058Z
UID:2358-1716490800-1716496200@elhacedorjuan316.org
SUMMARY:NOCHE FAMILIAR
DESCRIPTION:NOCHE FAMILIAR\n7:00 PM \n\nEstudio Bíblico\nRoyal Rangers\nMisioneritas
URL:https://elhacedorjuan316.org/event/noche-familiar-37/
LOCATION:Church\, 413 Fern St.\, Jupiter\, FL\, 33458\, United States
CATEGORIES:NOCHE FAMILIAR,Servicios del jueves
ATTACH;FMTTYPE=image/jpeg:https://elhacedorjuan316.org/wp-content/uploads/2022/12/qtq80-UVkzUM.jpeg
END:VEVENT
BEGIN:VEVENT
DTSTART;TZID=UTC:20240516T190000
DTEND;TZID=UTC:20240516T203000
DTSTAMP:20260420T011943
CREATED:20240516T161859Z
LAST-MODIFIED:20240516T161859Z
UID:2356-1715886000-1715891400@elhacedorjuan316.org
SUMMARY:NOCHE FAMILIAR
DESCRIPTION:NOCHE FAMILIAR\n7:00 PM \n\nEstudio Bíblico\nRoyal Rangers\nMisioneritas
URL:https://elhacedorjuan316.org/event/noche-familiar-36/
LOCATION:Church\, 413 Fern St.\, Jupiter\, FL\, 33458\, United States
CATEGORIES:NOCHE FAMILIAR,Servicios del jueves
ATTACH;FMTTYPE=image/jpeg:https://elhacedorjuan316.org/wp-content/uploads/2022/12/qtq80-UVkzUM.jpeg
END:VEVENT
BEGIN:VEVENT
DTSTART;TZID=UTC:20240502T190000
DTEND;TZID=UTC:20240502T203000
DTSTAMP:20260420T011943
CREATED:20240516T161443Z
LAST-MODIFIED:20240516T161443Z
UID:2352-1714676400-1714681800@elhacedorjuan316.org
SUMMARY:NOCHE FAMILIAR
DESCRIPTION:NOCHE FAMILIAR\n7:00 PM \n\nEstudio Bíblico\nRoyal Rangers\nMisioneritas
URL:https://elhacedorjuan316.org/event/noche-familiar-35/
LOCATION:Church\, 413 Fern St.\, Jupiter\, FL\, 33458\, United States
CATEGORIES:NOCHE FAMILIAR,Servicios del jueves
ATTACH;FMTTYPE=image/jpeg:https://elhacedorjuan316.org/wp-content/uploads/2022/12/qtq80-UVkzUM.jpeg
END:VEVENT
BEGIN:VEVENT
DTSTART;TZID=UTC:20240425T190000
DTEND;TZID=UTC:20240425T203000
DTSTAMP:20260420T011943
CREATED:20240403T015009Z
LAST-MODIFIED:20240403T015009Z
UID:2328-1714071600-1714077000@elhacedorjuan316.org
SUMMARY:NOCHE FAMILIAR
DESCRIPTION:NOCHE FAMILIAR\n7:00 PM \n\nEstudio Bíblico\nRoyal Rangers\nMisioneritas
URL:https://elhacedorjuan316.org/event/noche-familiar-34/
LOCATION:Church\, 413 Fern St.\, Jupiter\, FL\, 33458\, United States
CATEGORIES:NOCHE FAMILIAR,Servicios del jueves
ATTACH;FMTTYPE=image/jpeg:https://elhacedorjuan316.org/wp-content/uploads/2022/12/qtq80-UVkzUM.jpeg
END:VEVENT
BEGIN:VEVENT
DTSTART;TZID=UTC:20240418T190000
DTEND;TZID=UTC:20240418T203000
DTSTAMP:20260420T011943
CREATED:20240403T014846Z
LAST-MODIFIED:20240403T014846Z
UID:2326-1713466800-1713472200@elhacedorjuan316.org
SUMMARY:NOCHE FAMILIAR
DESCRIPTION:NOCHE FAMILIAR\n7:00 PM \n\nEstudio Bíblico\nRoyal Rangers\nMisioneritas
URL:https://elhacedorjuan316.org/event/noche-familiar-33/
LOCATION:Church\, 413 Fern St.\, Jupiter\, FL\, 33458\, United States
CATEGORIES:NOCHE FAMILIAR,Servicios del jueves
ATTACH;FMTTYPE=image/jpeg:https://elhacedorjuan316.org/wp-content/uploads/2022/12/qtq80-UVkzUM.jpeg
END:VEVENT
BEGIN:VEVENT
DTSTART;TZID=UTC:20240411T190000
DTEND;TZID=UTC:20240411T203000
DTSTAMP:20260420T011943
CREATED:20240403T014739Z
LAST-MODIFIED:20240403T014739Z
UID:2324-1712862000-1712867400@elhacedorjuan316.org
SUMMARY:NOCHE FAMILIAR
DESCRIPTION:NOCHE FAMILIAR\n7:00 PM \n\nEstudio Bíblico\nRoyal Rangers\nMisioneritas
URL:https://elhacedorjuan316.org/event/noche-familiar-32/
LOCATION:Church\, 413 Fern St.\, Jupiter\, FL\, 33458\, United States
CATEGORIES:NOCHE FAMILIAR,Servicios del jueves
ATTACH;FMTTYPE=image/jpeg:https://elhacedorjuan316.org/wp-content/uploads/2022/12/qtq80-UVkzUM.jpeg
END:VEVENT
BEGIN:VEVENT
DTSTART;TZID=UTC:20240404T190000
DTEND;TZID=UTC:20240404T203000
DTSTAMP:20260420T011943
CREATED:20240403T014632Z
LAST-MODIFIED:20240403T014632Z
UID:2322-1712257200-1712262600@elhacedorjuan316.org
SUMMARY:NOCHE FAMILIAR
DESCRIPTION:NOCHE FAMILIAR\n7:00 PM \n\nEstudio Bíblico\nRoyal Rangers\nMisioneritas
URL:https://elhacedorjuan316.org/event/noche-familiar-31/
LOCATION:Church\, 413 Fern St.\, Jupiter\, FL\, 33458\, United States
CATEGORIES:NOCHE FAMILIAR,Servicios del jueves
ATTACH;FMTTYPE=image/jpeg:https://elhacedorjuan316.org/wp-content/uploads/2022/12/qtq80-UVkzUM.jpeg
END:VEVENT
BEGIN:VEVENT
DTSTART;TZID=UTC:20240328T190000
DTEND;TZID=UTC:20240328T203000
DTSTAMP:20260420T011943
CREATED:20240318T032934Z
LAST-MODIFIED:20240318T032934Z
UID:2306-1711652400-1711657800@elhacedorjuan316.org
SUMMARY:NOCHE FAMILIAR
DESCRIPTION:NOCHE FAMILIAR\n7:00 PM \n\nEstudio Bíblico\nRoyal Rangers\nMisioneritas
URL:https://elhacedorjuan316.org/event/noche-familiar-30/
LOCATION:Church\, 413 Fern St.\, Jupiter\, FL\, 33458\, United States
CATEGORIES:NOCHE FAMILIAR,Servicios del jueves
ATTACH;FMTTYPE=image/jpeg:https://elhacedorjuan316.org/wp-content/uploads/2022/12/qtq80-UVkzUM.jpeg
END:VEVENT
BEGIN:VEVENT
DTSTART;TZID=UTC:20240321T190000
DTEND;TZID=UTC:20240321T203000
DTSTAMP:20260420T011943
CREATED:20240318T032838Z
LAST-MODIFIED:20240318T032838Z
UID:2304-1711047600-1711053000@elhacedorjuan316.org
SUMMARY:NOCHE FAMILIAR
DESCRIPTION:NOCHE FAMILIAR\n7:00 PM \n\nEstudio Bíblico\nRoyal Rangers\nMisioneritas
URL:https://elhacedorjuan316.org/event/noche-familiar-29/
LOCATION:Church\, 413 Fern St.\, Jupiter\, FL\, 33458\, United States
CATEGORIES:NOCHE FAMILIAR,Servicios del jueves
ATTACH;FMTTYPE=image/jpeg:https://elhacedorjuan316.org/wp-content/uploads/2022/12/qtq80-UVkzUM.jpeg
END:VEVENT
BEGIN:VEVENT
DTSTART;TZID=UTC:20240314T190000
DTEND;TZID=UTC:20240314T203000
DTSTAMP:20260420T011943
CREATED:20240318T032730Z
LAST-MODIFIED:20240318T032730Z
UID:2302-1710442800-1710448200@elhacedorjuan316.org
SUMMARY:NOCHE FAMILIAR
DESCRIPTION:NOCHE FAMILIAR\n7:00 PM \n\nEstudio Bíblico\nRoyal Rangers\nMisioneritas
URL:https://elhacedorjuan316.org/event/noche-familiar-28/
LOCATION:Church\, 413 Fern St.\, Jupiter\, FL\, 33458\, United States
CATEGORIES:NOCHE FAMILIAR,Servicios del jueves,Servicios del martes
ATTACH;FMTTYPE=image/jpeg:https://elhacedorjuan316.org/wp-content/uploads/2022/12/qtq80-UVkzUM.jpeg
END:VEVENT
BEGIN:VEVENT
DTSTART;TZID=UTC:20240307T190000
DTEND;TZID=UTC:20240307T203000
DTSTAMP:20260420T011943
CREATED:20240318T032638Z
LAST-MODIFIED:20240318T032638Z
UID:2300-1709838000-1709843400@elhacedorjuan316.org
SUMMARY:NOCHE FAMILIAR
DESCRIPTION:NOCHE FAMILIAR\n7:00 PM \n\nEstudio Bíblico\nRoyal Rangers\nMisioneritas
URL:https://elhacedorjuan316.org/event/noche-familiar-27/
LOCATION:Church\, 413 Fern St.\, Jupiter\, FL\, 33458\, United States
CATEGORIES:NOCHE FAMILIAR,Servicios del jueves
ATTACH;FMTTYPE=image/jpeg:https://elhacedorjuan316.org/wp-content/uploads/2022/12/qtq80-UVkzUM.jpeg
END:VEVENT
BEGIN:VEVENT
DTSTART;TZID=UTC:20240229T190000
DTEND;TZID=UTC:20240229T203000
DTSTAMP:20260420T011943
CREATED:20240204T020657Z
LAST-MODIFIED:20240204T020657Z
UID:2242-1709233200-1709238600@elhacedorjuan316.org
SUMMARY:NOCHE FAMILIAR
DESCRIPTION:NOCHE FAMILIAR\n7:00 PM \n\nEstudio Bíblico\nRoyal Rangers\nMisioneritas
URL:https://elhacedorjuan316.org/event/noche-familiar-26/
LOCATION:Church\, 413 Fern St.\, Jupiter\, FL\, 33458\, United States
CATEGORIES:NOCHE FAMILIAR,Servicios del jueves
ATTACH;FMTTYPE=image/jpeg:https://elhacedorjuan316.org/wp-content/uploads/2022/12/qtq80-UVkzUM.jpeg
END:VEVENT
BEGIN:VEVENT
DTSTART;TZID=UTC:20240222T190000
DTEND;TZID=UTC:20240222T203000
DTSTAMP:20260420T011943
CREATED:20240204T020545Z
LAST-MODIFIED:20240204T020545Z
UID:2240-1708628400-1708633800@elhacedorjuan316.org
SUMMARY:NNOCHE FAMILIAR
DESCRIPTION:NOCHE FAMILIAR\n7:00 PM \n\nEstudio Bíblico\nRoyal Rangers\nMisioneritas
URL:https://elhacedorjuan316.org/event/nnoche-familiar/
LOCATION:Church\, 413 Fern St.\, Jupiter\, FL\, 33458\, United States
CATEGORIES:NOCHE FAMILIAR,Servicios del jueves
ATTACH;FMTTYPE=image/jpeg:https://elhacedorjuan316.org/wp-content/uploads/2022/12/qtq80-UVkzUM.jpeg
END:VEVENT
BEGIN:VEVENT
DTSTART;TZID=UTC:20240215T190000
DTEND;TZID=UTC:20240215T203000
DTSTAMP:20260420T011943
CREATED:20240204T020356Z
LAST-MODIFIED:20240204T020356Z
UID:2238-1708023600-1708029000@elhacedorjuan316.org
SUMMARY:SERVICIO ESPECIAL CIERRE CADENA AYUNO
DESCRIPTION:SERVICIO ESPECIAL CIERRE CADENA AYUNO\n7:00 PM \n\nEstudio Bíblico\nRoyal Rangers\nMisioneritas
URL:https://elhacedorjuan316.org/event/servicio-especial-cierre-cadena-ayuno/
LOCATION:Church\, 413 Fern St.\, Jupiter\, FL\, 33458\, United States
CATEGORIES:NOCHE FAMILIAR,Servicios del jueves
ATTACH;FMTTYPE=image/jpeg:https://elhacedorjuan316.org/wp-content/uploads/2022/12/qtq80-UVkzUM.jpeg
END:VEVENT
BEGIN:VEVENT
DTSTART;TZID=UTC:20240208T190000
DTEND;TZID=UTC:20240208T203000
DTSTAMP:20260420T011943
CREATED:20240204T020021Z
LAST-MODIFIED:20240204T020021Z
UID:2236-1707418800-1707424200@elhacedorjuan316.org
SUMMARY:NOCHE FAMILIAR
DESCRIPTION:NOCHE FAMILIAR\n7:00 PM \n\nEstudio Bíblico\nRoyal Rangers\nMisioneritas
URL:https://elhacedorjuan316.org/event/noche-familiar-25/
LOCATION:Church\, 413 Fern St.\, Jupiter\, FL\, 33458\, United States
CATEGORIES:NOCHE FAMILIAR,Servicios del jueves
ATTACH;FMTTYPE=image/jpeg:https://elhacedorjuan316.org/wp-content/uploads/2022/12/qtq80-UVkzUM.jpeg
END:VEVENT
BEGIN:VEVENT
DTSTART;TZID=UTC:20240201T190000
DTEND;TZID=UTC:20240201T203000
DTSTAMP:20260420T011943
CREATED:20240204T015816Z
LAST-MODIFIED:20240204T015816Z
UID:2234-1706814000-1706819400@elhacedorjuan316.org
SUMMARY:NOCHE FAMILIAR
DESCRIPTION:NOCHE FAMILIAR\n7:00 PM \n\nEstudio Bíblico\nRoyal Rangers\nMisioneritas
URL:https://elhacedorjuan316.org/event/noche-familiar-24/
LOCATION:Church\, 413 Fern St.\, Jupiter\, FL\, 33458\, United States
CATEGORIES:NOCHE FAMILIAR,Servicios del jueves
ATTACH;FMTTYPE=image/jpeg:https://elhacedorjuan316.org/wp-content/uploads/2022/12/qtq80-UVkzUM.jpeg
END:VEVENT
BEGIN:VEVENT
DTSTART;TZID=UTC:20240125T190000
DTEND;TZID=UTC:20240125T203000
DTSTAMP:20260420T011943
CREATED:20231228T172017Z
LAST-MODIFIED:20231228T172017Z
UID:2216-1706209200-1706214600@elhacedorjuan316.org
SUMMARY:NOCHE FAMILIAR
DESCRIPTION:NOCHE FAMILIAR\n7:00 PM \n\nEstudio Bíblico\nRoyal Rangers\nMisioneritas
URL:https://elhacedorjuan316.org/event/noche-familiar-23/
LOCATION:Church\, 413 Fern St.\, Jupiter\, FL\, 33458\, United States
CATEGORIES:NOCHE FAMILIAR,Servicios del jueves
ATTACH;FMTTYPE=image/jpeg:https://elhacedorjuan316.org/wp-content/uploads/2022/12/qtq80-UVkzUM.jpeg
END:VEVENT
BEGIN:VEVENT
DTSTART;TZID=UTC:20240118T190000
DTEND;TZID=UTC:20240118T203000
DTSTAMP:20260420T011943
CREATED:20231228T171825Z
LAST-MODIFIED:20231228T171825Z
UID:2214-1705604400-1705609800@elhacedorjuan316.org
SUMMARY:NOCHE FAMILIAR
DESCRIPTION:NOCHE FAMILIAR\n7:00 PM \n\nEstudio Bíblico\nRoyal Rangers\nMisioneritas
URL:https://elhacedorjuan316.org/event/noche-familiar-22/
LOCATION:Church\, 413 Fern St.\, Jupiter\, FL\, 33458\, United States
CATEGORIES:NOCHE FAMILIAR,Servicios del jueves
ATTACH;FMTTYPE=image/jpeg:https://elhacedorjuan316.org/wp-content/uploads/2022/12/qtq80-UVkzUM.jpeg
END:VEVENT
BEGIN:VEVENT
DTSTART;TZID=UTC:20240111T190000
DTEND;TZID=UTC:20240111T203000
DTSTAMP:20260420T011943
CREATED:20231228T171732Z
LAST-MODIFIED:20231228T171732Z
UID:2212-1704999600-1705005000@elhacedorjuan316.org
SUMMARY:NOCHE FAMILIAR
DESCRIPTION:NOCHE FAMILIAR\n7:00 PM \n\nEstudio Bíblico\nRoyal Rangers\nMisioneritas
URL:https://elhacedorjuan316.org/event/noche-familiar-21/
LOCATION:Church\, 413 Fern St.\, Jupiter\, FL\, 33458\, United States
CATEGORIES:NOCHE FAMILIAR,Servicios del jueves
ATTACH;FMTTYPE=image/jpeg:https://elhacedorjuan316.org/wp-content/uploads/2022/12/qtq80-UVkzUM.jpeg
END:VEVENT
END:VCALENDAR