BEGIN:VCALENDAR
VERSION:2.0
PRODID:-//El Hacedor Juan 3:16 AG - ECPv6.15.20//NONSGML v1.0//EN
CALSCALE:GREGORIAN
METHOD:PUBLISH
X-WR-CALNAME:El Hacedor Juan 3:16 AG
X-ORIGINAL-URL:https://elhacedorjuan316.org
X-WR-CALDESC:Events for El Hacedor Juan 3:16 AG
REFRESH-INTERVAL;VALUE=DURATION:PT1H
X-Robots-Tag:noindex
X-PUBLISHED-TTL:PT1H
BEGIN:VTIMEZONE
TZID:UTC
BEGIN:STANDARD
TZOFFSETFROM:+0000
TZOFFSETTO:+0000
TZNAME:UTC
DTSTART:20240101T000000
END:STANDARD
END:VTIMEZONE
BEGIN:VEVENT
DTSTART;TZID=UTC:20251113T190000
DTEND;TZID=UTC:20251113T203000
DTSTAMP:20260420T051622
CREATED:20251104T023820Z
LAST-MODIFIED:20251104T023820Z
UID:3145-1763060400-1763065800@elhacedorjuan316.org
SUMMARY:NOCHE FAMILIAR
DESCRIPTION:NOCHE FAMILIAR\n7:00 PM \n\nEstudio Bíblico\nRoyal Rangers\nMisioneritas
URL:https://elhacedorjuan316.org/event/noche-familiar-111/
LOCATION:Church\, 413 Fern St.\, Jupiter\, FL\, 33458\, United States
CATEGORIES:NOCHE FAMILIAR,Servicios del jueves
ATTACH;FMTTYPE=image/jpeg:https://elhacedorjuan316.org/wp-content/uploads/2022/12/qtq80-UVkzUM.jpeg
END:VEVENT
BEGIN:VEVENT
DTSTART;TZID=UTC:20251120T190000
DTEND;TZID=UTC:20251120T203000
DTSTAMP:20260420T051622
CREATED:20251104T024009Z
LAST-MODIFIED:20251104T024112Z
UID:3147-1763665200-1763670600@elhacedorjuan316.org
SUMMARY:NOCHE FAMILIAR
DESCRIPTION:NOCHE FAMILIAR\n7:00 PM \n\nEstudio Bíblico\nRoyal Rangers\nMisioneritas
URL:https://elhacedorjuan316.org/event/noche-familiar-112/
LOCATION:Church\, 413 Fern St.\, Jupiter\, FL\, 33458\, United States
CATEGORIES:NOCHE FAMILIAR,Servicios del jueves
ATTACH;FMTTYPE=image/jpeg:https://elhacedorjuan316.org/wp-content/uploads/2022/12/qtq80-UVkzUM.jpeg
END:VEVENT
BEGIN:VEVENT
DTSTART;TZID=UTC:20251204T190000
DTEND;TZID=UTC:20251204T203000
DTSTAMP:20260420T051622
CREATED:20251202T024655Z
LAST-MODIFIED:20251202T024655Z
UID:3175-1764874800-1764880200@elhacedorjuan316.org
SUMMARY:NOCHE FAMILIAR
DESCRIPTION:NOCHE FAMILIAR\n7:00 PM \n\nEstudio Bíblico\nRoyal Rangers\nMisioneritas
URL:https://elhacedorjuan316.org/event/noche-familiar-113/
LOCATION:Church\, 413 Fern St.\, Jupiter\, FL\, 33458\, United States
CATEGORIES:NOCHE FAMILIAR,Servicios del jueves
ATTACH;FMTTYPE=image/jpeg:https://elhacedorjuan316.org/wp-content/uploads/2022/12/qtq80-UVkzUM.jpeg
END:VEVENT
BEGIN:VEVENT
DTSTART;TZID=UTC:20251211T190000
DTEND;TZID=UTC:20251211T203000
DTSTAMP:20260420T051622
CREATED:20251202T024903Z
LAST-MODIFIED:20251202T024903Z
UID:3177-1765479600-1765485000@elhacedorjuan316.org
SUMMARY:NOCHE FAMILIAR
DESCRIPTION:NOCHE FAMILIAR\n7:00 PM \n\nEstudio Bíblico\nRoyal Rangers\nMisioneritas
URL:https://elhacedorjuan316.org/event/noche-familiar-114/
LOCATION:Church\, 413 Fern St.\, Jupiter\, FL\, 33458\, United States
CATEGORIES:NOCHE FAMILIAR,Servicios del jueves
ATTACH;FMTTYPE=image/jpeg:https://elhacedorjuan316.org/wp-content/uploads/2022/12/qtq80-UVkzUM.jpeg
END:VEVENT
BEGIN:VEVENT
DTSTART;TZID=UTC:20251218T190000
DTEND;TZID=UTC:20251218T203000
DTSTAMP:20260420T051622
CREATED:20251202T025016Z
LAST-MODIFIED:20251202T025016Z
UID:3179-1766084400-1766089800@elhacedorjuan316.org
SUMMARY:NOCHE FAMILIAR
DESCRIPTION:NOCHE FAMILIAR\n7:00 PM \n\nEstudio Bíblico\nRoyal Rangers\nMisioneritas
URL:https://elhacedorjuan316.org/event/noche-familiar-115/
LOCATION:Church\, 413 Fern St.\, Jupiter\, FL\, 33458\, United States
CATEGORIES:NOCHE FAMILIAR,Servicios del jueves
ATTACH;FMTTYPE=image/jpeg:https://elhacedorjuan316.org/wp-content/uploads/2022/12/qtq80-UVkzUM.jpeg
END:VEVENT
BEGIN:VEVENT
DTSTART;TZID=UTC:20260108T190000
DTEND;TZID=UTC:20260108T203000
DTSTAMP:20260420T051622
CREATED:20260101T194218Z
LAST-MODIFIED:20260101T194218Z
UID:3198-1767898800-1767904200@elhacedorjuan316.org
SUMMARY:NOCHE FAMILIAR
DESCRIPTION:NOCHE FAMILIAR\n7:00 PM \n\nEstudio Bíblico\nRoyal Rangers\nMisioneritas
URL:https://elhacedorjuan316.org/event/noche-familiar-116/
LOCATION:Church\, 413 Fern St.\, Jupiter\, FL\, 33458\, United States
CATEGORIES:NOCHE FAMILIAR,Servicios del jueves
ATTACH;FMTTYPE=image/jpeg:https://elhacedorjuan316.org/wp-content/uploads/2022/12/qtq80-UVkzUM.jpeg
END:VEVENT
BEGIN:VEVENT
DTSTART;TZID=UTC:20260115T190000
DTEND;TZID=UTC:20260115T203000
DTSTAMP:20260420T051622
CREATED:20260101T194309Z
LAST-MODIFIED:20260101T194309Z
UID:3200-1768503600-1768509000@elhacedorjuan316.org
SUMMARY:NOCHE FAMILIAR
DESCRIPTION:NOCHE FAMILIAR\n7:00 PM \n\nEstudio Bíblico\nRoyal Rangers\nMisioneritas
URL:https://elhacedorjuan316.org/event/noche-familiar-117/
LOCATION:Church\, 413 Fern St.\, Jupiter\, FL\, 33458\, United States
CATEGORIES:NOCHE FAMILIAR,Servicios del jueves
ATTACH;FMTTYPE=image/jpeg:https://elhacedorjuan316.org/wp-content/uploads/2022/12/qtq80-UVkzUM.jpeg
END:VEVENT
BEGIN:VEVENT
DTSTART;TZID=UTC:20260122T190000
DTEND;TZID=UTC:20260122T203000
DTSTAMP:20260420T051622
CREATED:20260101T194403Z
LAST-MODIFIED:20260101T194403Z
UID:3202-1769108400-1769113800@elhacedorjuan316.org
SUMMARY:NOCHE FAMILIAR
DESCRIPTION:NOCHE FAMILIAR\n7:00 PM \n\nEstudio Bíblico\nRoyal Rangers\nMisioneritas
URL:https://elhacedorjuan316.org/event/noche-familiar-118/
LOCATION:Church\, 413 Fern St.\, Jupiter\, FL\, 33458\, United States
CATEGORIES:NOCHE FAMILIAR,Servicios del jueves
ATTACH;FMTTYPE=image/jpeg:https://elhacedorjuan316.org/wp-content/uploads/2022/12/qtq80-UVkzUM.jpeg
END:VEVENT
BEGIN:VEVENT
DTSTART;TZID=UTC:20260129T190000
DTEND;TZID=UTC:20260129T203000
DTSTAMP:20260420T051622
CREATED:20260101T194503Z
LAST-MODIFIED:20260101T194503Z
UID:3204-1769713200-1769718600@elhacedorjuan316.org
SUMMARY:NOCHE FAMILIAR
DESCRIPTION:NOCHE FAMILIAR\n7:00 PM \n\nEstudio Bíblico\nRoyal Rangers\nMisioneritas
URL:https://elhacedorjuan316.org/event/noche-familiar-119/
LOCATION:Church\, 413 Fern St.\, Jupiter\, FL\, 33458\, United States
CATEGORIES:NOCHE FAMILIAR,Servicios del jueves
ATTACH;FMTTYPE=image/jpeg:https://elhacedorjuan316.org/wp-content/uploads/2022/12/qtq80-UVkzUM.jpeg
END:VEVENT
BEGIN:VEVENT
DTSTART;TZID=UTC:20260205T190000
DTEND;TZID=UTC:20260205T203000
DTSTAMP:20260420T051622
CREATED:20260204T033645Z
LAST-MODIFIED:20260204T033645Z
UID:3235-1770318000-1770323400@elhacedorjuan316.org
SUMMARY:NOCHE FAMILIAR
DESCRIPTION:NOCHE FAMILIAR\n7:00 PM \n\nEstudio Bíblico\nRoyal Rangers\nMisioneritas
URL:https://elhacedorjuan316.org/event/noche-familiar-120/
LOCATION:Church\, 413 Fern St.\, Jupiter\, FL\, 33458\, United States
CATEGORIES:NOCHE FAMILIAR,Servicios del jueves
ATTACH;FMTTYPE=image/jpeg:https://elhacedorjuan316.org/wp-content/uploads/2022/12/qtq80-UVkzUM.jpeg
END:VEVENT
BEGIN:VEVENT
DTSTART;TZID=UTC:20260212T190000
DTEND;TZID=UTC:20260212T203000
DTSTAMP:20260420T051622
CREATED:20260204T033807Z
LAST-MODIFIED:20260204T034429Z
UID:3237-1770922800-1770928200@elhacedorjuan316.org
SUMMARY:NOCHE FAMILIAR
DESCRIPTION:NOCHE FAMILIAR\n7:00 PM \n\nEstudio Bíblico\nRoyal Rangers\nMisioneritas
URL:https://elhacedorjuan316.org/event/noche-familiar-121/
LOCATION:Church\, 413 Fern St.\, Jupiter\, FL\, 33458\, United States
CATEGORIES:NOCHE FAMILIAR,Servicios del jueves
ATTACH;FMTTYPE=image/jpeg:https://elhacedorjuan316.org/wp-content/uploads/2022/12/qtq80-UVkzUM.jpeg
END:VEVENT
BEGIN:VEVENT
DTSTART;TZID=UTC:20260219T190000
DTEND;TZID=UTC:20260219T203000
DTSTAMP:20260420T051622
CREATED:20260204T034210Z
LAST-MODIFIED:20260204T034210Z
UID:3239-1771527600-1771533000@elhacedorjuan316.org
SUMMARY:SERVICIO ESPECIAL - CIERRE CADENA AYUNO Y ORACIÓN
DESCRIPTION:SERVICIO ESPECIAL – CIERRE CADENA AYUNO Y ORACIÓN \nPREDICADOR – JESÚS DIAZ (7 P.M.)
URL:https://elhacedorjuan316.org/event/servicio-especial-cierre-cadena-ayuno-y-oracion-2/
LOCATION:Church\, 413 Fern St.\, Jupiter\, FL\, 33458\, United States
CATEGORIES:NOCHE FAMILIAR,Servicios del jueves
ATTACH;FMTTYPE=image/jpeg:https://elhacedorjuan316.org/wp-content/uploads/2022/12/qtq80-UVkzUM.jpeg
END:VEVENT
BEGIN:VEVENT
DTSTART;TZID=UTC:20260226T190000
DTEND;TZID=UTC:20260226T203000
DTSTAMP:20260420T051622
CREATED:20260204T034313Z
LAST-MODIFIED:20260204T034313Z
UID:3241-1772132400-1772137800@elhacedorjuan316.org
SUMMARY:NOCHE FAMILIAR
DESCRIPTION:NOCHE FAMILIAR\n7:00 PM \n\nEstudio Bíblico\nRoyal Rangers\nMisioneritas
URL:https://elhacedorjuan316.org/event/noche-familiar-122/
LOCATION:Church\, 413 Fern St.\, Jupiter\, FL\, 33458\, United States
CATEGORIES:NOCHE FAMILIAR,Servicios del jueves
ATTACH;FMTTYPE=image/jpeg:https://elhacedorjuan316.org/wp-content/uploads/2022/12/qtq80-UVkzUM.jpeg
END:VEVENT
BEGIN:VEVENT
DTSTART;TZID=UTC:20260305T190000
DTEND;TZID=UTC:20260305T203000
DTSTAMP:20260420T051622
CREATED:20260305T200610Z
LAST-MODIFIED:20260305T200610Z
UID:3270-1772737200-1772742600@elhacedorjuan316.org
SUMMARY:NOCHE FAMILIAR
DESCRIPTION:NOCHE FAMILIAR\n7:00 PM \n\nEstudio Bíblico\nRoyal Rangers\nMisioneritas
URL:https://elhacedorjuan316.org/event/noche-familiar-123/
LOCATION:Church\, 413 Fern St.\, Jupiter\, FL\, 33458\, United States
CATEGORIES:NOCHE FAMILIAR,Servicios del jueves
ATTACH;FMTTYPE=image/jpeg:https://elhacedorjuan316.org/wp-content/uploads/2022/12/qtq80-UVkzUM.jpeg
END:VEVENT
BEGIN:VEVENT
DTSTART;TZID=UTC:20260312T190000
DTEND;TZID=UTC:20260312T203000
DTSTAMP:20260420T051622
CREATED:20260305T200733Z
LAST-MODIFIED:20260305T200733Z
UID:3272-1773342000-1773347400@elhacedorjuan316.org
SUMMARY:NOCHE FAMILIAR
DESCRIPTION:NOCHE FAMILIAR\n7:00 PM \n\nEstudio Bíblico\nRoyal Rangers\nMisioneritas
URL:https://elhacedorjuan316.org/event/noche-familiar-124/
LOCATION:Church\, 413 Fern St.\, Jupiter\, FL\, 33458\, United States
CATEGORIES:NOCHE FAMILIAR,Servicios del jueves
ATTACH;FMTTYPE=image/jpeg:https://elhacedorjuan316.org/wp-content/uploads/2022/12/qtq80-UVkzUM.jpeg
END:VEVENT
BEGIN:VEVENT
DTSTART;TZID=UTC:20260319T190000
DTEND;TZID=UTC:20260319T203000
DTSTAMP:20260420T051622
CREATED:20260305T200824Z
LAST-MODIFIED:20260305T200824Z
UID:3274-1773946800-1773952200@elhacedorjuan316.org
SUMMARY:NOCHE FAMILIAR
DESCRIPTION:NOCHE FAMILIAR\n7:00 PM \n\nEstudio Bíblico\nRoyal Rangers\nMisioneritas
URL:https://elhacedorjuan316.org/event/noche-familiar-125/
LOCATION:Church\, 413 Fern St.\, Jupiter\, FL\, 33458\, United States
CATEGORIES:NOCHE FAMILIAR,Servicios del jueves
ATTACH;FMTTYPE=image/jpeg:https://elhacedorjuan316.org/wp-content/uploads/2022/12/qtq80-UVkzUM.jpeg
END:VEVENT
BEGIN:VEVENT
DTSTART;TZID=UTC:20260326T190000
DTEND;TZID=UTC:20260326T203000
DTSTAMP:20260420T051622
CREATED:20260305T200915Z
LAST-MODIFIED:20260305T200915Z
UID:3276-1774551600-1774557000@elhacedorjuan316.org
SUMMARY:NOCHE FAMILIAR
DESCRIPTION:NOCHE FAMILIAR\n7:00 PM \n\nEstudio Bíblico\nRoyal Rangers\nMisioneritas
URL:https://elhacedorjuan316.org/event/noche-familiar-126/
LOCATION:Church\, 413 Fern St.\, Jupiter\, FL\, 33458\, United States
CATEGORIES:NOCHE FAMILIAR,Servicios del jueves
ATTACH;FMTTYPE=image/jpeg:https://elhacedorjuan316.org/wp-content/uploads/2022/12/qtq80-UVkzUM.jpeg
END:VEVENT
BEGIN:VEVENT
DTSTART;TZID=UTC:20260402T190000
DTEND;TZID=UTC:20260402T203000
DTSTAMP:20260420T051622
CREATED:20260405T180442Z
LAST-MODIFIED:20260405T180442Z
UID:3305-1775156400-1775161800@elhacedorjuan316.org
SUMMARY:NOCHE FAMILIAR
DESCRIPTION:NOCHE FAMILIAR\n7:00 PM \n\nEstudio Bíblico\nRoyal Rangers\nMisioneritas
URL:https://elhacedorjuan316.org/event/noche-familiar-127/
LOCATION:Church\, 413 Fern St.\, Jupiter\, FL\, 33458\, United States
CATEGORIES:NOCHE FAMILIAR,Royal Rangers,Servicios del jueves
ATTACH;FMTTYPE=image/jpeg:https://elhacedorjuan316.org/wp-content/uploads/2022/12/qtq80-UVkzUM.jpeg
END:VEVENT
BEGIN:VEVENT
DTSTART;TZID=UTC:20260409T190000
DTEND;TZID=UTC:20260409T203000
DTSTAMP:20260420T051622
CREATED:20260405T180620Z
LAST-MODIFIED:20260405T180620Z
UID:3307-1775761200-1775766600@elhacedorjuan316.org
SUMMARY:NOCHE FAMILIAR
DESCRIPTION:NOCHE FAMILIAR\n7:00 PM \n\nEstudio Bíblico\nRoyal Rangers\nMisioneritas
URL:https://elhacedorjuan316.org/event/noche-familiar-128/
LOCATION:Church\, 413 Fern St.\, Jupiter\, FL\, 33458\, United States
CATEGORIES:NOCHE FAMILIAR,Royal Rangers,Servicios del jueves
ATTACH;FMTTYPE=image/jpeg:https://elhacedorjuan316.org/wp-content/uploads/2022/12/qtq80-UVkzUM.jpeg
END:VEVENT
BEGIN:VEVENT
DTSTART;TZID=UTC:20260416T190000
DTEND;TZID=UTC:20260416T203000
DTSTAMP:20260420T051622
CREATED:20260405T180718Z
LAST-MODIFIED:20260405T180718Z
UID:3309-1776366000-1776371400@elhacedorjuan316.org
SUMMARY:NOCHE FAMILIAR
DESCRIPTION:NOCHE FAMILIAR\n7:00 PM \n\nEstudio Bíblico\nRoyal Rangers\nMisioneritas
URL:https://elhacedorjuan316.org/event/noche-familiar-129/
LOCATION:Church\, 413 Fern St.\, Jupiter\, FL\, 33458\, United States
CATEGORIES:NOCHE FAMILIAR,Royal Rangers,Servicios del jueves
ATTACH;FMTTYPE=image/jpeg:https://elhacedorjuan316.org/wp-content/uploads/2022/12/qtq80-UVkzUM.jpeg
END:VEVENT
BEGIN:VEVENT
DTSTART;TZID=UTC:20260423T190000
DTEND;TZID=UTC:20260423T203000
DTSTAMP:20260420T051622
CREATED:20260405T180837Z
LAST-MODIFIED:20260405T180837Z
UID:3311-1776970800-1776976200@elhacedorjuan316.org
SUMMARY:NOCHE FAMILIAR
DESCRIPTION:NOCHE FAMILIAR\n7:00 PM \n\nEstudio Bíblico\nRoyal Rangers\nMisioneritas
URL:https://elhacedorjuan316.org/event/noche-familiar-130/
LOCATION:Church\, 413 Fern St.\, Jupiter\, FL\, 33458\, United States
CATEGORIES:NOCHE FAMILIAR,Royal Rangers,Servicios del jueves
ATTACH;FMTTYPE=image/jpeg:https://elhacedorjuan316.org/wp-content/uploads/2022/12/qtq80-UVkzUM.jpeg
END:VEVENT
BEGIN:VEVENT
DTSTART;TZID=UTC:20260430T190000
DTEND;TZID=UTC:20260430T203000
DTSTAMP:20260420T051622
CREATED:20260405T180942Z
LAST-MODIFIED:20260405T180942Z
UID:3313-1777575600-1777581000@elhacedorjuan316.org
SUMMARY:NOCHE FAMILIAR
DESCRIPTION:NOCHE FAMILIAR\n7:00 PM \n\nEstudio Bíblico\nRoyal Rangers\nMisioneritas
URL:https://elhacedorjuan316.org/event/noche-familiar-131/
LOCATION:Church\, 413 Fern St.\, Jupiter\, FL\, 33458\, United States
CATEGORIES:NOCHE FAMILIAR,Royal Rangers,Servicios del jueves
ATTACH;FMTTYPE=image/jpeg:https://elhacedorjuan316.org/wp-content/uploads/2022/12/qtq80-UVkzUM.jpeg
END:VEVENT
END:VCALENDAR