BEGIN:VCALENDAR
VERSION:2.0
PRODID:-//El Hacedor Juan 3:16 AG - ECPv6.15.20//NONSGML v1.0//EN
CALSCALE:GREGORIAN
METHOD:PUBLISH
X-WR-CALNAME:El Hacedor Juan 3:16 AG
X-ORIGINAL-URL:https://elhacedorjuan316.org
X-WR-CALDESC:Events for El Hacedor Juan 3:16 AG
REFRESH-INTERVAL;VALUE=DURATION:PT1H
X-Robots-Tag:noindex
X-PUBLISHED-TTL:PT1H
BEGIN:VTIMEZONE
TZID:UTC
BEGIN:STANDARD
TZOFFSETFROM:+0000
TZOFFSETTO:+0000
TZNAME:UTC
DTSTART:20250101T000000
END:STANDARD
END:VTIMEZONE
BEGIN:VEVENT
DTSTART;TZID=UTC:20260108T190000
DTEND;TZID=UTC:20260108T203000
DTSTAMP:20260419T143823
CREATED:20260101T194218Z
LAST-MODIFIED:20260101T194218Z
UID:3198-1767898800-1767904200@elhacedorjuan316.org
SUMMARY:NOCHE FAMILIAR
DESCRIPTION:NOCHE FAMILIAR\n7:00 PM \n\nEstudio Bíblico\nRoyal Rangers\nMisioneritas
URL:https://elhacedorjuan316.org/event/noche-familiar-116/
LOCATION:Church\, 413 Fern St.\, Jupiter\, FL\, 33458\, United States
CATEGORIES:NOCHE FAMILIAR,Servicios del jueves
ATTACH;FMTTYPE=image/jpeg:https://elhacedorjuan316.org/wp-content/uploads/2022/12/qtq80-UVkzUM.jpeg
END:VEVENT
BEGIN:VEVENT
DTSTART;TZID=UTC:20260115T190000
DTEND;TZID=UTC:20260115T203000
DTSTAMP:20260419T143823
CREATED:20260101T194309Z
LAST-MODIFIED:20260101T194309Z
UID:3200-1768503600-1768509000@elhacedorjuan316.org
SUMMARY:NOCHE FAMILIAR
DESCRIPTION:NOCHE FAMILIAR\n7:00 PM \n\nEstudio Bíblico\nRoyal Rangers\nMisioneritas
URL:https://elhacedorjuan316.org/event/noche-familiar-117/
LOCATION:Church\, 413 Fern St.\, Jupiter\, FL\, 33458\, United States
CATEGORIES:NOCHE FAMILIAR,Servicios del jueves
ATTACH;FMTTYPE=image/jpeg:https://elhacedorjuan316.org/wp-content/uploads/2022/12/qtq80-UVkzUM.jpeg
END:VEVENT
BEGIN:VEVENT
DTSTART;TZID=UTC:20260122T190000
DTEND;TZID=UTC:20260122T203000
DTSTAMP:20260419T143823
CREATED:20260101T194403Z
LAST-MODIFIED:20260101T194403Z
UID:3202-1769108400-1769113800@elhacedorjuan316.org
SUMMARY:NOCHE FAMILIAR
DESCRIPTION:NOCHE FAMILIAR\n7:00 PM \n\nEstudio Bíblico\nRoyal Rangers\nMisioneritas
URL:https://elhacedorjuan316.org/event/noche-familiar-118/
LOCATION:Church\, 413 Fern St.\, Jupiter\, FL\, 33458\, United States
CATEGORIES:NOCHE FAMILIAR,Servicios del jueves
ATTACH;FMTTYPE=image/jpeg:https://elhacedorjuan316.org/wp-content/uploads/2022/12/qtq80-UVkzUM.jpeg
END:VEVENT
BEGIN:VEVENT
DTSTART;TZID=UTC:20260129T190000
DTEND;TZID=UTC:20260129T203000
DTSTAMP:20260419T143823
CREATED:20260101T194503Z
LAST-MODIFIED:20260101T194503Z
UID:3204-1769713200-1769718600@elhacedorjuan316.org
SUMMARY:NOCHE FAMILIAR
DESCRIPTION:NOCHE FAMILIAR\n7:00 PM \n\nEstudio Bíblico\nRoyal Rangers\nMisioneritas
URL:https://elhacedorjuan316.org/event/noche-familiar-119/
LOCATION:Church\, 413 Fern St.\, Jupiter\, FL\, 33458\, United States
CATEGORIES:NOCHE FAMILIAR,Servicios del jueves
ATTACH;FMTTYPE=image/jpeg:https://elhacedorjuan316.org/wp-content/uploads/2022/12/qtq80-UVkzUM.jpeg
END:VEVENT
END:VCALENDAR