BEGIN:VCALENDAR
VERSION:2.0
PRODID:-//El Hacedor Juan 3:16 AG - ECPv6.15.20//NONSGML v1.0//EN
CALSCALE:GREGORIAN
METHOD:PUBLISH
X-WR-CALNAME:El Hacedor Juan 3:16 AG
X-ORIGINAL-URL:https://elhacedorjuan316.org
X-WR-CALDESC:Events for El Hacedor Juan 3:16 AG
REFRESH-INTERVAL;VALUE=DURATION:PT1H
X-Robots-Tag:noindex
X-PUBLISHED-TTL:PT1H
BEGIN:VTIMEZONE
TZID:UTC
BEGIN:STANDARD
TZOFFSETFROM:+0000
TZOFFSETTO:+0000
TZNAME:UTC
DTSTART:20240101T000000
END:STANDARD
END:VTIMEZONE
BEGIN:VEVENT
DTSTART;TZID=UTC:20250501T190000
DTEND;TZID=UTC:20250501T203000
DTSTAMP:20260420T032854
CREATED:20250507T030005Z
LAST-MODIFIED:20250507T030005Z
UID:2861-1746126000-1746131400@elhacedorjuan316.org
SUMMARY:NOCHE FAMILIAR
DESCRIPTION:NOCHE FAMILIAR\n7:00 PM \n\nEstudio Bíblico\nRoyal Rangers\nMisioneritas
URL:https://elhacedorjuan316.org/event/noche-familiar-84/
LOCATION:Church\, 413 Fern St.\, Jupiter\, FL\, 33458\, United States
CATEGORIES:NOCHE FAMILIAR,Servicios del jueves
ATTACH;FMTTYPE=image/jpeg:https://elhacedorjuan316.org/wp-content/uploads/2022/12/qtq80-UVkzUM.jpeg
END:VEVENT
BEGIN:VEVENT
DTSTART;TZID=UTC:20250508T190000
DTEND;TZID=UTC:20250508T203000
DTSTAMP:20260420T032854
CREATED:20250507T030119Z
LAST-MODIFIED:20250507T030119Z
UID:2863-1746730800-1746736200@elhacedorjuan316.org
SUMMARY:NOCHE FAMILIAR
DESCRIPTION:NOCHE FAMILIAR\n7:00 PM \n\nEstudio Bíblico\nRoyal Rangers\nMisioneritas
URL:https://elhacedorjuan316.org/event/noche-familiar-85/
LOCATION:Church\, 413 Fern St.\, Jupiter\, FL\, 33458\, United States
CATEGORIES:NOCHE FAMILIAR,Servicios del jueves
ATTACH;FMTTYPE=image/jpeg:https://elhacedorjuan316.org/wp-content/uploads/2022/12/qtq80-UVkzUM.jpeg
END:VEVENT
BEGIN:VEVENT
DTSTART;TZID=UTC:20250515T190000
DTEND;TZID=UTC:20250515T203000
DTSTAMP:20260420T032854
CREATED:20250507T030255Z
LAST-MODIFIED:20250507T030255Z
UID:2865-1747335600-1747341000@elhacedorjuan316.org
SUMMARY:NOCHE FAMILIAR
DESCRIPTION:NOCHE FAMILIAR\n7:00 PM \n\nEstudio Bíblico\nRoyal Rangers\nMisioneritas
URL:https://elhacedorjuan316.org/event/noche-familiar-86/
LOCATION:Church\, 413 Fern St.\, Jupiter\, FL\, 33458\, United States
CATEGORIES:NOCHE FAMILIAR,Servicios del jueves
ATTACH;FMTTYPE=image/jpeg:https://elhacedorjuan316.org/wp-content/uploads/2022/12/qtq80-UVkzUM.jpeg
END:VEVENT
BEGIN:VEVENT
DTSTART;TZID=UTC:20250529T190000
DTEND;TZID=UTC:20250529T203000
DTSTAMP:20260420T032854
CREATED:20250507T030407Z
LAST-MODIFIED:20250507T030407Z
UID:2867-1748545200-1748550600@elhacedorjuan316.org
SUMMARY:NOCHE FAMILIAR
DESCRIPTION:NOCHE FAMILIAR\n7:00 PM \n\nEstudio Bíblico\nRoyal Rangers\nMisioneritas
URL:https://elhacedorjuan316.org/event/noche-familiar-87/
LOCATION:Church\, 413 Fern St.\, Jupiter\, FL\, 33458\, United States
CATEGORIES:NOCHE FAMILIAR,Servicios del jueves
ATTACH;FMTTYPE=image/jpeg:https://elhacedorjuan316.org/wp-content/uploads/2022/12/qtq80-UVkzUM.jpeg
END:VEVENT
END:VCALENDAR