BEGIN:VCALENDAR
VERSION:2.0
PRODID:-//El Hacedor Juan 3:16 AG - ECPv6.15.20//NONSGML v1.0//EN
CALSCALE:GREGORIAN
METHOD:PUBLISH
X-WR-CALNAME:El Hacedor Juan 3:16 AG
X-ORIGINAL-URL:https://elhacedorjuan316.org
X-WR-CALDESC:Events for El Hacedor Juan 3:16 AG
REFRESH-INTERVAL;VALUE=DURATION:PT1H
X-Robots-Tag:noindex
X-PUBLISHED-TTL:PT1H
BEGIN:VTIMEZONE
TZID:UTC
BEGIN:STANDARD
TZOFFSETFROM:+0000
TZOFFSETTO:+0000
TZNAME:UTC
DTSTART:20240101T000000
END:STANDARD
END:VTIMEZONE
BEGIN:VEVENT
DTSTART;TZID=UTC:20250403T190000
DTEND;TZID=UTC:20250403T203000
DTSTAMP:20260420T050909
CREATED:20250410T022801Z
LAST-MODIFIED:20250410T022801Z
UID:2824-1743706800-1743712200@elhacedorjuan316.org
SUMMARY:NOCHE FAMILIAR
DESCRIPTION:NOCHE FAMILIAR\n7:00 PM \n\nEstudio Bíblico\nRoyal Rangers\nMisioneritas
URL:https://elhacedorjuan316.org/event/noche-familiar-80/
LOCATION:Church\, 413 Fern St.\, Jupiter\, FL\, 33458\, United States
CATEGORIES:NOCHE FAMILIAR,Servicios del jueves
ATTACH;FMTTYPE=image/jpeg:https://elhacedorjuan316.org/wp-content/uploads/2022/12/qtq80-UVkzUM.jpeg
END:VEVENT
BEGIN:VEVENT
DTSTART;TZID=UTC:20250410T190000
DTEND;TZID=UTC:20250410T203000
DTSTAMP:20260420T050909
CREATED:20250410T022849Z
LAST-MODIFIED:20250410T022849Z
UID:2826-1744311600-1744317000@elhacedorjuan316.org
SUMMARY:NOCHE FAMILIAR
DESCRIPTION:NOCHE FAMILIAR\n7:00 PM \n\nEstudio Bíblico\nRoyal Rangers\nMisioneritas
URL:https://elhacedorjuan316.org/event/noche-familiar-81/
LOCATION:Church\, 413 Fern St.\, Jupiter\, FL\, 33458\, United States
CATEGORIES:NOCHE FAMILIAR,Servicios del jueves
ATTACH;FMTTYPE=image/jpeg:https://elhacedorjuan316.org/wp-content/uploads/2022/12/qtq80-UVkzUM.jpeg
END:VEVENT
BEGIN:VEVENT
DTSTART;TZID=UTC:20250417T190000
DTEND;TZID=UTC:20250417T203000
DTSTAMP:20260420T050909
CREATED:20250410T023043Z
LAST-MODIFIED:20250410T023043Z
UID:2828-1744916400-1744921800@elhacedorjuan316.org
SUMMARY:NOCHE FAMILIAR
DESCRIPTION:NOCHE FAMILIAR\n7:00 PM \n\nEstudio Bíblico\nRoyal Rangers\nMisioneritas
URL:https://elhacedorjuan316.org/event/noche-familiar-82/
LOCATION:Church\, 413 Fern St.\, Jupiter\, FL\, 33458\, United States
CATEGORIES:NOCHE FAMILIAR,Servicios del jueves
ATTACH;FMTTYPE=image/jpeg:https://elhacedorjuan316.org/wp-content/uploads/2022/12/qtq80-UVkzUM.jpeg
END:VEVENT
BEGIN:VEVENT
DTSTART;TZID=UTC:20250424T190000
DTEND;TZID=UTC:20250424T203000
DTSTAMP:20260420T050909
CREATED:20250410T023127Z
LAST-MODIFIED:20250410T023127Z
UID:2830-1745521200-1745526600@elhacedorjuan316.org
SUMMARY:NOCHE FAMILIAR
DESCRIPTION:NOCHE FAMILIAR\n7:00 PM \n\nEstudio Bíblico\nRoyal Rangers\nMisioneritas
URL:https://elhacedorjuan316.org/event/noche-familiar-83/
LOCATION:Church\, 413 Fern St.\, Jupiter\, FL\, 33458\, United States
CATEGORIES:NOCHE FAMILIAR,Servicios del jueves
ATTACH;FMTTYPE=image/jpeg:https://elhacedorjuan316.org/wp-content/uploads/2022/12/qtq80-UVkzUM.jpeg
END:VEVENT
END:VCALENDAR